Workbook

Sheet Gap Analysis
A1: Standard V | C1: Section Information | F1: Documentation, systems and records | M1: Facilities and manufacturing practice
A2: Index | B2: Clause | C2: Section | D2: Sub-section | E2: Sub-section | F2: Assessment Required | G2: Compliant? | H2: Evidence of Compliance | I2: Details of Non-Compliance | J2: Action Required | K2: Target date | L2: Complete/Verified | M2: Assessment Required | N2: Compliant? | O2: Evidence of Compliance | P2: Details of Non-Compliance | Q2: Action Required | R2: Target date | S2: Complete/Verified
A3: 1 | B3: 1.1.1 | C3: Senior management commitment | D3: Senior management commitment and continual improvement | F3: Yes | M3: No
A4: 2 | B4: 1.1.2 | C4: Senior management commitment | D4: Senior management commitment and continual improvement | F4: Yes | M4: Yes
A5: 3 | B5: 1.1.3 | C5: Senior management commitment | D5: Senior management commitment and continual improvement | F5: Yes | M5: No
A6: 4 | B6: 1.1.4 | C6: Senior management commitment | D6: Senior management commitment and continual improvement | F6: Yes | M6: No
A7: 5 | B7: 1.1.5 | C7: Senior management commitment | D7: Senior management commitment and continual improvement | F7: Yes | M7: No
A8: 6 | B8: 1.1.6 | C8: Senior management commitment | D8: Senior management commitment and continual improvement | F8: Yes | M8: No
A9: 7 | B9: 1.1.7 | C9: Senior management commitment | D9: Senior management commitment and continual improvement | F9: Yes | M9: Yes
A10: 8 | B10: 1.1.8 | C10: Senior management commitment | D10: Senior management commitment and continual improvement | F10: Yes | M10: No
A11: 9 | B11: 1.1.9 | C11: Senior management commitment | D11: Senior management commitment and continual improvement | F11: Yes | M11: No
A12: 10 | B12: 1.1.10 | C12: Senior management commitment | D12: Senior management commitment and continual improvement | F12: Yes | M12: No
A13: 11 | B13: 1.1.11 | C13: Senior management commitment | D13: Senior management commitment and continual improvement | F13: Yes | M13: Yes
A14: 12 | B14: 1.1.12 | C14: Senior management commitment | D14: Senior management commitment and continual improvement | F14: Yes | M14: Yes
... A52: 50 | B52: 3.4.4 | C52: Food safety and quality management system | D52: Internal audits | F52: Yes | M52: No
A53: 51 | B53: 3.5.1.1 | C53: Food safety and quality management system | D53: Supplier and raw material approval and performance monitoring | E53: Management of suppliers of raw materials and packaging | F53: Yes | M53: No
A54: 52 | B54: 3.5.1.2 | C54: Food safety and quality management system | D54: Supplier and raw material approval and performance monitoring | E54: Management of suppliers of raw materials and packaging | F54: Yes | M54: No
A55: 53 | B55: 3.5.1.3 | C55: Food safety and quality management system | D55: Supplier and raw material approval and performance monitoring | E55: Management of suppliers of raw materials and packaging | F55: Yes | M55: No
A56: 54 | B56: 3.5.1.4 | C56: Food safety and quality management system | D56: Supplier and raw material approval and performance monitoring | E56: Management of suppliers of raw materials and packaging | F56: Yes | M56: No
A57: 55 | B57: 3.5.1.5 | C57: Food safety and quality management system | D57: Supplier and raw material approval and performance monitoring | E57: Management of suppliers of raw materials and packaging | F57: Yes | M57: No
A58: 56 | B58: 3.5.1.6 | C58: Food safety and quality management system | D58: Supplier and raw material approval and performance monitoring | E58: Management of suppliers of raw materials and packaging | F58: Yes | M58: No
A59: 57 | B59: 3.5.1.7 | C59: Food safety and quality management system | D59: Supplier and raw material approval and performance monitoring | E59: Management of suppliers of raw materials and packaging | F59: Yes | M59: No
A60: 58 | B60: 3.5.2.1 | C60: Food safety and quality management system | D60: Supplier and raw material approval and performance monitoring | E60: Raw material and packaging acceptance, monitoring and management procedures | F60: Yes | M60: Yes
A61: 59 | B61: 3.5.2.2 | C61: Food safety and quality management system | D61: Supplier and raw material approval and performance monitoring | E61: Raw material and packaging acceptance, monitoring and management procedures | F61: Yes | M61: Yes
A62: 60 | B62: 3.5.3.1 | C62: Food safety and quality management system | D62: Supplier and raw material approval and performance monitoring | E62: Management of suppliers of services | F62: Yes | M62: No
A63: 61 | B63: 3.5.3.2 | C63: Food safety and quality management system | D63: Supplier and raw material approval and performance monitoring | E63: Management of suppliers of services | F63: Yes | M63: No
A64: 62 | B64: 3.5.3.3 | C64: Food safety and quality management system | D64: Supplier and raw material approval and performance monitoring | E64: Management of suppliers of services | F64: Yes | M64: No
... A70: 68 | B70: 3.5.4.6 | C70: Food safety and quality management system | D70: Supplier and raw material approval and performance monitoring | E70: Management of outsourced processing | F70: Yes | M70: No
A71: 69 | B71: 3.6.1 | C71: Food safety and quality management system | D71: Specifications | F71: Yes | M71: No
A72: 70 | B72: 3.6.2 | C72: Food safety and quality management system | D72: Specifications | F72: Yes | M72: No
A73: 71 | B73: 3.6.3 | C73: Food safety and quality management system | D73: Specifications | F73: Yes | M73: No
A74: 72 | B74: 3.6.4 | C74: Food safety and quality management system | D74: Specifications | F74: Yes | M74: No
A75: 73 | B75: 3.7.1 | C75: Food safety and quality management system | D75: Corrective and preventive actions | F75: Yes | M75: No
A76: 74 | B76: 3.7.2 | C76: Food safety and quality management system | D76: Corrective and preventive actions | F76: Yes | M76: Yes
A77: 75 | B77: 3.8.1 | C77: Food safety and quality management system | D77: Control of non-conforming product | F77: Yes | M77: Yes
A78: 76 | B78: 3.9.1 | C78: Food safety and quality management system | D78: Traceability | F78: Yes | M78: No
A79: 77 | B79: 3.9.2 | C79: Food safety and quality management system | D79: Traceability | F79: No | M79: Yes
A80: 78 | B80: 3.9.3 | C80: Food safety and quality management system | D80: Traceability | F80: Yes | M80: No
A81: 79 | B81: 3.9.4 | C81: Food safety and quality management system | D81: Traceability | F81: Yes | M81: Yes
A82: 80 | B82: 3.10.1 | C82: Food safety and quality management system | D82: Food safety and quality manual | F82: Yes | M82: No
... A98: 96 | B98: 4.3.3 | C98: Site standards | D98: Layout, product flow and segregation | F98: No | M98: Yes
A99: 97 | B99: 4.3.4 | C99: Site standards | D99: Layout, product flow and segregation | F99: No | J99: e asked an AI to review documents, systems and records to determine whether a requirement was met. With the following requirement, the AI found references to the process flow and procedures in a risk assessment document, but it did not actually find the process flow and procedures. In these instances, it shoud document what it found in the Evidence of Compliance but still record it as not compliant and give details of non-compliance stating it did not find the actuall process flow and procedures. Instruction to AI: When reviewing documents, systems, and records to determine compliance with a requirement, follow these steps: Identify References: If you find references to the process flow and procedures in any document, note these references in the "Evidence of Compliance" section. Clearly state the document name and the context in which the reference is made. Assess Actual Presence: Determine whether the actual process flow and procedures are present in the documents. If they are not found, record the requirement as "Not Compliant." Detail Non-Compliance: In the "Details of Non-Compliance" section, explicitly state that the actual process flow and procedures were not found. Provide details on what was referenced and the specific documents where these references were located. Example Documentation: Evidence of Compliance: "In 'NCN 9 RA 008 Internal Audits Risk Assessment v1.xlsx', it is stated that a process and material flow map is in place as part of HACCP. Procedures such as intake checks, waste management, and control of non-conforming products demonstrate control over movements to minimize contamination risks." Details of Non-Compliance: "The actual process flow and procedures were not found in the reviewed documents. The references indicate their existence, but the documents do not contain the actual flow maps or detailed procedures." By following these instructions, the AI will provide a clear and structured assessment of compliance, highlighting both the evidence found and the gaps in documentation. | M99: Yes
A100: 98 | B100: 4.3.5 | C100: Site standards | D100: Layout, product flow and segregation | F100: No | M100: Yes
A101: 99 | B101: 4.3.6 | C101: Site standards | D101: Layout, product flow and segregation | F101: Yes | M101: Yes
A102: 100 | B102: 4.4.1 | C102: Site standards | D102: Building fabric, raw material-handling, preparation, processing, packing and storage areas | F102: No | M102: Yes
A103: 101 | B103: 4.4.2 | C103: Site standards | D103: Building fabric, raw material-handling, preparation, processing, packing and storage areas | F103: No | M103: Yes
A104: 102 | B104: 4.4.3 | C104: Site standards | D104: Building fabric, raw material-handling, preparation, processing, packing and storage areas | F104: No | M104: Yes
A105: 103 | B105: 4.4.4 | C105: Site standards | D105: Building fabric, raw material-handling, preparation, processing, packing and storage areas | F105: No | M105: Yes
A106: 104 | B106: 4.4.5 | C106: Site standards | D106: Building fabric, raw material-handling, preparation, processing, packing and storage areas | F106: No | M106: Yes
A107: 105 | B107: 4.4.6 | C107: Site standards | D107: Building fabric, raw material-handling, preparation, processing, packing and storage areas | F107: No | M107: Yes
A108: 106 | B108: 4.4.7 | C108: Site standards | D108: Building fabric, raw material-handling, preparation, processing, packing and storage areas | F108: No | M108: Yes
A109: 107 | B109: 4.4.8 | C109: Site standards | D109: Building fabric, raw material-handling, preparation, processing, packing and storage areas | F109: No | M109: Yes
A110: 108 | B110: 4.4.9 | C110: Site standards | D110: Building fabric, raw material-handling, preparation, processing, packing and storage areas | F110: No | M110: Yes
A111: 109 | B111: 4.4.10 | C111: Site standards | D111: Building fabric, raw material-handling, preparation, processing, packing and storage areas | F111: No | M111: Yes
... A136: 134 | B136: 4.8.8 | C136: Site standards | D136: Staff facilities | F136: Yes | M136: Yes
A137: 135 | B137: 4.9.1.1 | C137: Site standards | D137: Chemical and physical product contamination control: raw material-handling, preparation, processing, packing and storage areas | E137: Chemical control | F137: Yes | M137: Yes
A138: 136 | B138: 4.9.1.2 | C138: Site standards | D138: Chemical and physical product contamination control: raw material-handling, preparation, processing, packing and storage areas | E138: Chemical control | F138: No | M138: Yes
A139: 137 | B139: 4.9.2.1 | C139: Site standards | D139: Chemical and physical product contamination control: raw material-handling, preparation, processing, packing and storage areas | E139: Metal control | F139: No | M139: Yes
A140: 138 | B140: 4.9.2.2 | C140: Site standards | D140: Chemical and physical product contamination control: raw material-handling, preparation, processing, packing and storage areas | E140: Metal control | F140: No | M140: Yes
A141: 139 | B141: 4.9.3.1 | C141: Site standards | D141: Chemical and physical product contamination control: raw material-handling, preparation, processing, packing and storage areas | E141: Glass, brittle plastic, ceramics and similar materials | F141: No | M141: Yes
A142: 140 | B142: 4.9.3.2 | C142: Site standards | D142: Chemical and physical product contamination control: raw material-handling, preparation, processing, packing and storage areas | E142: Glass, brittle plastic, ceramics and similar materials | F142: Yes | M142: No
A143: 141 | B143: 4.9.3.3 | C143: Site standards | D143: Chemical and physical product contamination control: raw material-handling, preparation, processing, packing and storage areas | E143: Glass, brittle plastic, ceramics and similar materials | F143: Yes | M143: Yes
A144: 142 | B144: 4.9.3.4 | C144: Site standards | D144: Chemical and physical product contamination control: raw material-handling, preparation, processing, packing and storage areas | E144: Glass, brittle plastic, ceramics and similar materials | F144: No | M144: Yes
A145: 143 | B145: 4.9.3.5 | C145: Site standards | D145: Chemical and physical product contamination control: raw material-handling, preparation, processing, packing and storage areas | E145: Glass, brittle plastic, ceramics and similar materials | F145: No | M145: Yes
A146: 144 | B146: 4.9.4.1 | C146: Site standards | D146: Chemical and physical product contamination control: raw material-handling, preparation, processing, packing and storage areas | E146: Products packed into glass or other brittle containers | F146: No | M146: Yes
A147: 145 | B147: 4.9.4.2 | C147: Site standards | D147: Chemical and physical product contamination control: raw material-handling, preparation, processing, packing and storage areas | E147: Products packed into glass or other brittle containers | F147: No | M147: Yes
A148: 146 | B148: 4.9.4.3 | C148: Site standards | D148: Chemical and physical product contamination control: raw material-handling, preparation, processing, packing and storage areas | E148: Products packed into glass or other brittle containers | F148: Yes | M148: Yes
... A168: 166 | B168: 4.10.7.1 | C168: Site standards | D168: External standards and site security | E168: Other foreign-body detection and removal equipment | F168: Yes | M168: Yes
A169: 167 | B169: 4.11.1 | C169: Site standards | D169: Housekeeping and hygiene | F169: No | M169: Yes
A170: 168 | B170: 4.11.2 | C170: Site standards | D170: Housekeeping and hygiene | F170: No | M170: Yes
A171: 169 | B171: 4.11.3 | C171: Site standards | D171: Housekeeping and hygiene | F171: Yes | M171: No
A172: 170 | B172: 4.11.4 | C172: Site standards | D172: Housekeeping and hygiene | F172: No | M172: Yes
A173: 171 | B173: 4.11.5 | C173: Site standards | D173: Housekeeping and hygiene | F173: Yes | M173: Yes
A174: 172 | B174: 4.11.6 | C174: Site standards | D174: Housekeeping and hygiene | F174: No | M174: Yes
A175: 173 | B175: 4.11.7.1 | C175: Site standards | D175: Housekeeping and hygiene | E175: Cleaning in place (CIP) | F175: Yes | M175: No
A176: 174 | B176: 4.11.7.2 | C176: Site standards | D176: Housekeeping and hygiene | E176: Cleaning in place (CIP) | F176: No | M176: Yes
A177: 175 | B177: 4.11.7.3 | C177: Site standards | D177: Housekeeping and hygiene | E177: Cleaning in place (CIP) | F177: No | M177: Yes
A178: 176 | B178: 4.11.7.4 | C178: Site standards | D178: Housekeeping and hygiene | E178: Cleaning in place (CIP) | F178: No | M178: Yes
A179: 177 | B179: 4.11.8.1 | C179: Site standards | D179: Housekeeping and hygiene | E179: Environmental monitoring | F179: Yes | M179: Yes
A180: 178 | B180: 4.11.8.2 | C180: Site standards | D180: Housekeeping and hygiene | E180: Environmental monitoring | F180: Yes | M180: Yes
A181: 179 | B181: 4.11.8.3 | C181: Site standards | D181: Housekeeping and hygiene | E181: Environmental monitoring | F181: Yes | M181: No
A182: 180 | B182: 4.12.1 | C182: Site standards | D182: Waste and waste disposal | F182: Yes | M182: No
A183: 181 | B183: 4.12.2 | C183: Site standards | D183: Waste and waste disposal | F183: No | M183: Yes
A184: 182 | B184: 4.12.3 | C184: Site standards | D184: Waste and waste disposal | F184: No | M184: Yes
A185: 183 | B185: 4.12.4 | C185: Site standards | D185: Waste and waste disposal | F185: Yes | M185: No
A186: 184 | B186: 4.13.1 | C186: Site standards | D186: Management of surplus food and products for animal feed | F186: No | M186: Yes
A187: 185 | B187: 4.13.2 | C187: Site standards | D187: Management of surplus food and products for animal feed | F187: Yes | M187: No
A188: 186 | B188: 4.13.3 | C188: Site standards | D188: Management of surplus food and products for animal feed | F188: No | M188: Yes
A189: 187 | B189: 4.14.1 | C189: Site standards | D189: Pest management | F189: No | M189: Yes
A190: 188 | B190: 4.14.2 | C190: Site standards | D190: Pest management | F190: No | M190: Yes
A191: 189 | B191: 4.14.3 | C191: Site standards | D191: Pest management | F191: No | M191: Yes
A192: 190 | B192: 4.14.4 | C192: Site standards | D192: Pest management | F192: No | M192: Yes
A193: 191 | B193: 4.14.5 | C193: Site standards | D193: Pest management | F193: No | M193: Yes
... A330: 328 | B330: 9.6.3 | C330: Requirements for traded products | D330: Traceability | F330: Yes | M330: No

Sheet Overview
A1: Standard V Gap Analysis - BRCGS Global Standard for Food Safety Issue 9
A2: Section Information | E2: Documentation, systems and records | H2: Facilities and manufacturing practice
A3: Index | B3: Section | C3: Sub-section | D3: Sub-section | E3: Requirements | F3: Compliant Requirements | G3: Non-Compliant Requirements | H3: Requirements | I3: Compliant Requirements | J3: Non-Compliant Requirements
A4: 1 | B4: Senior management commitment | C4: Senior management commitment and continual improvement | E4: =IF(D4="",COUNTIFS('Gap Analysis'!C:C,Overview!B4,'Gap Analysis'!D:D,Overview!C4,'Gap Analysis'!E:E,"",'Gap Analysis'!F:F,"Yes"),COUNTIFS('Gap Analysis'!C:C,Overview!B4,'Gap Analysis'!D:D,Overview!C4,'Gap Analysis'!E:E,Overview!D4,'Gap Analysis'!F:F,"Yes")) -> 14 | F4: =IF(D4="",COUNTIFS('Gap Analysis'!C:C,Overview!B4,'Gap Analysis'!D:D,Overview!C4,'Gap Analysis'!E:E,"",'Gap Analysis'!F:F,"Yes", 'Gap Analysis'!G:G,"Yes"),COUNTIFS('Gap Analysis'!C:C,Overview!B4,'Gap Analysis'!D:D,Overview!C4,'Gap Analysis'!E:E,Overview!D4,'Gap Analysis'!F:F,"Yes", 'Gap Analysis'!G:G,"Yes")) -> 0 | G4: =E4-F4 -> 14 | H4: =IF(D4="",COUNTIFS('Gap Analysis'!C:C,Overview!B4,'Gap Analysis'!D:D,Overview!C4,'Gap Analysis'!E:E,"",'Gap Analysis'!M:M,"Yes"),COUNTIFS('Gap Analysis'!C:C,Overview!B4,'Gap Analysis'!D:D,Overview!C4,'Gap Analysis'!E:E,Overview!D4,'Gap Analysis'!M:M,"Yes")) -> 4 | I4: =IF(D4="",COUNTIFS('Gap Analysis'!C:C,Overview!B4,'Gap Analysis'!D:D,Overview!C4,'Gap Analysis'!E:E,"",'Gap Analysis'!M:M,"Yes", 'Gap Analysis'!N:N,"Yes"),COUNTIFS('Gap Analysis'!C:C,Overview!B4,'Gap Analysis'!D:D,Overview!C4,'Gap Analysis'!E:E,Overview!D4,'Gap Analysis'!M:M,"Yes", 'Gap Analysis'!N:N,"Yes")) -> 0 | J4: =H4-I4 -> 4
A5: 2 | B5: Senior management commitment | C5: Organisational structure, responsibilities and management authority | E5: =IF(D5="",COUNTIFS('Gap Analysis'!C:C,Overview!B5,'Gap Analysis'!D:D,Overview!C5,'Gap Analysis'!E:E,"",'Gap Analysis'!F:F,"Yes"),COUNTIFS('Gap Analysis'!C:C,Overview!B5,'Gap Analysis'!D:D,Overview!C5,'Gap Analysis'!E:E,Overview!D5,'Gap Analysis'!F:F,"Yes")) -> 1 | F5: =IF(D5="",COUNTIFS('Gap Analysis'!C:C,Overview!B5,'Gap Analysis'!D:D,Overview!C5,'Gap Analysis'!E:E,"",'Gap Analysis'!F:F,"Yes", 'Gap Analysis'!G:G,"Yes"),COUNTIFS('Gap Analysis'!C:C,Overview!B5,'Gap Analysis'!D:D,Overview!C5,'Gap Analysis'!E:E,Overview!D5,'Gap Analysis'!F:F,"Yes", 'Gap Analysis'!G:G,"Yes")) -> 0 | G5: =E5-F5 -> 1 | H5: =IF(D5="",COUNTIFS('Gap Analysis'!C:C,Overview!B5,'Gap Analysis'!D:D,Overview!C5,'Gap Analysis'!E:E,"",'Gap Analysis'!M:M,"Yes"),COUNTIFS('Gap Analysis'!C:C,Overview!B5,'Gap Analysis'!D:D,Overview!C5,'Gap Analysis'!E:E,Overview!D5,'Gap Analysis'!M:M,"Yes")) -> 3 | I5: =IF(D5="",COUNTIFS('Gap Analysis'!C:C,Overview!B5,'Gap Analysis'!D:D,Overview!C5,'Gap Analysis'!E:E,"",'Gap Analysis'!M:M,"Yes", 'Gap Analysis'!N:N,"Yes"),COUNTIFS('Gap Analysis'!C:C,Overview!B5,'Gap Analysis'!D:D,Overview!C5,'Gap Analysis'!E:E,Overview!D5,'Gap Analysis'!M:M,"Yes", 'Gap Analysis'!N:N,"Yes")) -> 0 | J5: =H5-I5 -> 3
A6: 3 | B6: The food safety plan – HACCP | C6: The HACCP food safety team (equivalent to Codex Alimentarius Step 1) | E6: =IF(D6="",COUNTIFS('Gap Analysis'!C:C,Overview!B6,'Gap Analysis'!D:D,Overview!C6,'Gap Analysis'!E:E,"",'Gap Analysis'!F:F,"Yes"),COUNTIFS('Gap Analysis'!C:C,Overview!B6,'Gap Analysis'!D:D,Overview!C6,'Gap Analysis'!E:E,Overview!D6,'Gap Analysis'!F:F,"Yes")) -> 4 | F6: =IF(D6="",COUNTIFS('Gap Analysis'!C:C,Overview!B6,'Gap Analysis'!D:D,Overview!C6,'Gap Analysis'!E:E,"",'Gap Analysis'!F:F,"Yes", 'Gap Analysis'!G:G,"Yes"),COUNTIFS('Gap Analysis'!C:C,Overview!B6,'Gap Analysis'!D:D,Overview!C6,'Gap Analysis'!E:E,Overview!D6,'Gap Analysis'!F:F,"Yes", 'Gap Analysis'!G:G,"Yes")) -> 0 | G6: =E6-F6 -> 4 | H6: =IF(D6="",COUNTIFS('Gap Analysis'!C:C,Overview!B6,'Gap Analysis'!D:D,Overview!C6,'Gap Analysis'!E:E,"",'Gap Analysis'!M:M,"Yes"),COUNTIFS('Gap Analysis'!C:C,Overview!B6,'Gap Analysis'!D:D,Overview!C6,'Gap Analysis'!E:E,Overview!D6,'Gap Analysis'!M:M,"Yes")) -> 2 | I6: =IF(D6="",COUNTIFS('Gap Analysis'!C:C,Overview!B6,'Gap Analysis'!D:D,Overview!C6,'Gap Analysis'!E:E,"",'Gap Analysis'!M:M,"Yes", 'Gap Analysis'!N:N,"Yes"),COUNTIFS('Gap Analysis'!C:C,Overview!B6,'Gap Analysis'!D:D,Overview!C6,'Gap Analysis'!E:E,Overview!D6,'Gap Analysis'!M:M,"Yes", 'Gap Analysis'!N:N,"Yes")) -> 0 | J6: =H6-I6 -> 2
A7: 4 | B7: The food safety plan – HACCP | C7: Prerequisite programmes | E7: =IF(D7="",COUNTIFS('Gap Analysis'!C:C,Overview!B7,'Gap Analysis'!D:D,Overview!C7,'Gap Analysis'!E:E,"",'Gap Analysis'!F:F,"Yes"),COUNTIFS('Gap Analysis'!C:C,Overview!B7,'Gap Analysis'!D:D,Overview!C7,'Gap Analysis'!E:E,Overview!D7,'Gap Analysis'!F:F,"Yes")) -> 1 | F7: =IF(D7="",COUNTIFS('Gap Analysis'!C:C,Overview!B7,'Gap Analysis'!D:D,Overview!C7,'Gap Analysis'!E:E,"",'Gap Analysis'!F:F,"Yes", 'Gap Analysis'!G:G,"Yes"),COUNTIFS('Gap Analysis'!C:C,Overview!B7,'Gap Analysis'!D:D,Overview!C7,'Gap Analysis'!E:E,Overview!D7,'Gap Analysis'!F:F,"Yes", 'Gap Analysis'!G:G,"Yes")) -> 0 | G7: =E7-F7 -> 1 | H7: =IF(D7="",COUNTIFS('Gap Analysis'!C:C,Overview!B7,'Gap Analysis'!D:D,Overview!C7,'Gap Analysis'!E:E,"",'Gap Analysis'!M:M,"Yes"),COUNTIFS('Gap Analysis'!C:C,Overview!B7,'Gap Analysis'!D:D,Overview!C7,'Gap Analysis'!E:E,Overview!D7,'Gap Analysis'!M:M,"Yes")) -> 1 | I7: =IF(D7="",COUNTIFS('Gap Analysis'!C:C,Overview!B7,'Gap Analysis'!D:D,Overview!C7,'Gap Analysis'!E:E,"",'Gap Analysis'!M:M,"Yes", 'Gap Analysis'!N:N,"Yes"),COUNTIFS('Gap Analysis'!C:C,Overview!B7,'Gap Analysis'!D:D,Overview!C7,'Gap Analysis'!E:E,Overview!D7,'Gap Analysis'!M:M,"Yes", 'Gap Analysis'!N:N,"Yes")) -> 0 | J7: =H7-I7 -> 1
A8: 5 | B8: The food safety plan – HACCP | C8: Describe the product (equivalent to Codex Alimentarius Step 2) | E8: =IF(D8="",COUNTIFS('Gap Analysis'!C:C,Overview!B8,'Gap Analysis'!D:D,Overview!C8,'Gap Analysis'!E:E,"",'Gap Analysis'!F:F,"Yes"),COUNTIFS('Gap Analysis'!C:C,Overview!B8,'Gap Analysis'!D:D,Overview!C8,'Gap Analysis'!E:E,Overview!D8,'Gap Analysis'!F:F,"Yes")) -> 2 | F8: =IF(D8="",COUNTIFS('Gap Analysis'!C:C,Overview!B8,'Gap Analysis'!D:D,Overview!C8,'Gap Analysis'!E:E,"",'Gap Analysis'!F:F,"Yes", 'Gap Analysis'!G:G,"Yes"),COUNTIFS('Gap Analysis'!C:C,Overview!B8,'Gap Analysis'!D:D,Overview!C8,'Gap Analysis'!E:E,Overview!D8,'Gap Analysis'!F:F,"Yes", 'Gap Analysis'!G:G,"Yes")) -> 0 | G8: =E8-F8 -> 2 | H8: =IF(D8="",COUNTIFS('Gap Analysis'!C:C,Overview!B8,'Gap Analysis'!D:D,Overview!C8,'Gap Analysis'!E:E,"",'Gap Analysis'!M:M,"Yes"),COUNTIFS('Gap Analysis'!C:C,Overview!B8,'Gap Analysis'!D:D,Overview!C8,'Gap Analysis'!E:E,Overview!D8,'Gap Analysis'!M:M,"Yes")) -> 0 | I8: =IF(D8="",COUNTIFS('Gap Analysis'!C:C,Overview!B8,'Gap Analysis'!D:D,Overview!C8,'Gap Analysis'!E:E,"",'Gap Analysis'!M:M,"Yes", 'Gap Analysis'!N:N,"Yes"),COUNTIFS('Gap Analysis'!C:C,Overview!B8,'Gap Analysis'!D:D,Overview!C8,'Gap Analysis'!E:E,Overview!D8,'Gap Analysis'!M:M,"Yes", 'Gap Analysis'!N:N,"Yes")) -> 0 | J8: =H8-I8 -> 0
A9: 6 | B9: The food safety plan – HACCP | C9: Identify intended use (equivalent to Codex Alimentarius Step 3) | E9: =IF(D9="",COUNTIFS('Gap Analysis'!C:C,Overview!B9,'Gap Analysis'!D:D,Overview!C9,'Gap Analysis'!E:E,"",'Gap Analysis'!F:F,"Yes"),COUNTIFS('Gap Analysis'!C:C,Overview!B9,'Gap Analysis'!D:D,Overview!C9,'Gap Analysis'!E:E,Overview!D9,'Gap Analysis'!F:F,"Yes")) -> 1 | F9: =IF(D9="",COUNTIFS('Gap Analysis'!C:C,Overview!B9,'Gap Analysis'!D:D,Overview!C9,'Gap Analysis'!E:E,"",'Gap Analysis'!F:F,"Yes", 'Gap Analysis'!G:G,"Yes"),COUNTIFS('Gap Analysis'!C:C,Overview!B9,'Gap Analysis'!D:D,Overview!C9,'Gap Analysis'!E:E,Overview!D9,'Gap Analysis'!F:F,"Yes", 'Gap Analysis'!G:G,"Yes")) -> 0 | G9: =E9-F9 -> 1 | H9: =IF(D9="",COUNTIFS('Gap Analysis'!C:C,Overview!B9,'Gap Analysis'!D:D,Overview!C9,'Gap Analysis'!E:E,"",'Gap Analysis'!M:M,"Yes"),COUNTIFS('Gap Analysis'!C:C,Overview!B9,'Gap Analysis'!D:D,Overview!C9,'Gap Analysis'!E:E,Overview!D9,'Gap Analysis'!M:M,"Yes")) -> 0 | I9: =IF(D9="",COUNTIFS('Gap Analysis'!C:C,Overview!B9,'Gap Analysis'!D:D,Overview!C9,'Gap Analysis'!E:E,"",'Gap Analysis'!M:M,"Yes", 'Gap Analysis'!N:N,"Yes"),COUNTIFS('Gap Analysis'!C:C,Overview!B9,'Gap Analysis'!D:D,Overview!C9,'Gap Analysis'!E:E,Overview!D9,'Gap Analysis'!M:M,"Yes", 'Gap Analysis'!N:N,"Yes")) -> 0 | J9: =H9-I9 -> 0
A10: 7 | B10: The food safety plan – HACCP | C10: Construct a process flow diagram (equivalent to Codex Alimentarius Step 4) | E10: =IF(D10="",COUNTIFS('Gap Analysis'!C:C,Overview!B10,'Gap Analysis'!D:D,Overview!C10,'Gap Analysis'!E:E,"",'Gap Analysis'!F:F,"Yes"),COUNTIFS('Gap Analysis'!C:C,Overview!B10,'Gap Analysis'!D:D,Overview!C10,'Gap Analysis'!E:E,Overview!D10,'Gap Analysis'!F:F,"Yes")) -> 1 | F10: =IF(D10="",COUNTIFS('Gap Analysis'!C:C,Overview!B10,'Gap Analysis'!D:D,Overview!C10,'Gap Analysis'!E:E,"",'Gap Analysis'!F:F,"Yes", 'Gap Analysis'!G:G,"Yes"),COUNTIFS('Gap Analysis'!C:C,Overview!B10,'Gap Analysis'!D:D,Overview!C10,'Gap Analysis'!E:E,Overview!D10,'Gap Analysis'!F:F,"Yes", 'Gap Analysis'!G:G,"Yes")) -> 0 | G10: =E10-F10 -> 1 | H10: =IF(D10="",COUNTIFS('Gap Analysis'!C:C,Overview!B10,'Gap Analysis'!D:D,Overview!C10,'Gap Analysis'!E:E,"",'Gap Analysis'!M:M,"Yes"),COUNTIFS('Gap Analysis'!C:C,Overview!B10,'Gap Analysis'!D:D,Overview!C10,'Gap Analysis'!E:E,Overview!D10,'Gap Analysis'!M:M,"Yes")) -> 1 | I10: =IF(D10="",COUNTIFS('Gap Analysis'!C:C,Overview!B10,'Gap Analysis'!D:D,Overview!C10,'Gap Analysis'!E:E,"",'Gap Analysis'!M:M,"Yes", 'Gap Analysis'!N:N,"Yes"),COUNTIFS('Gap Analysis'!C:C,Overview!B10,'Gap Analysis'!D:D,Overview!C10,'Gap Analysis'!E:E,Overview!D10,'Gap Analysis'!M:M,"Yes", 'Gap Analysis'!N:N,"Yes")) -> 0 | J10: =H10-I10 -> 1
A11: 8 | B11: The food safety plan – HACCP | C11: Verify process flow diagram (equivalent to Codex Alimentarius Step 5) | E11: =IF(D11="",COUNTIFS('Gap Analysis'!C:C,Overview!B11,'Gap Analysis'!D:D,Overview!C11,'Gap Analysis'!E:E,"",'Gap Analysis'!F:F,"Yes"),COUNTIFS('Gap Analysis'!C:C,Overview!B11,'Gap Analysis'!D:D,Overview!C11,'Gap Analysis'!E:E,Overview!D11,'Gap Analysis'!F:F,"Yes")) -> 1 | F11: =IF(D11="",COUNTIFS('Gap Analysis'!C:C,Overview!B11,'Gap Analysis'!D:D,Overview!C11,'Gap Analysis'!E:E,"",'Gap Analysis'!F:F,"Yes", 'Gap Analysis'!G:G,"Yes"),COUNTIFS('Gap Analysis'!C:C,Overview!B11,'Gap Analysis'!D:D,Overview!C11,'Gap Analysis'!E:E,Overview!D11,'Gap Analysis'!F:F,"Yes", 'Gap Analysis'!G:G,"Yes")) -> 0 | G11: =E11-F11 -> 1 | H11: =IF(D11="",COUNTIFS('Gap Analysis'!C:C,Overview!B11,'Gap Analysis'!D:D,Overview!C11,'Gap Analysis'!E:E,"",'Gap Analysis'!M:M,"Yes"),COUNTIFS('Gap Analysis'!C:C,Overview!B11,'Gap Analysis'!D:D,Overview!C11,'Gap Analysis'!E:E,Overview!D11,'Gap Analysis'!M:M,"Yes")) -> 1 | I11: =IF(D11="",COUNTIFS('Gap Analysis'!C:C,Overview!B11,'Gap Analysis'!D:D,Overview!C11,'Gap Analysis'!E:E,"",'Gap Analysis'!M:M,"Yes", 'Gap Analysis'!N:N,"Yes"),COUNTIFS('Gap Analysis'!C:C,Overview!B11,'Gap Analysis'!D:D,Overview!C11,'Gap Analysis'!E:E,Overview!D11,'Gap Analysis'!M:M,"Yes", 'Gap Analysis'!N:N,"Yes")) -> 0 | J11: =H11-I11 -> 1
A12: 9 | B12: The food safety plan – HACCP | C12: List all potential hazards associated with each process step, conduct a hazard analysis and consider any measures to control identified hazards (equivalent to Codex Alimentarius Step 6, Principle 1) | E12: =IF(D12="",COUNTIFS('Gap Analysis'!C:C,Overview!B12,'Gap Analysis'!D:D,Overview!C12,'Gap Analysis'!E:E,"",'Gap Analysis'!F:F,"Yes"),COUNTIFS('Gap Analysis'!C:C,Overview!B12,'Gap Analysis'!D:D,Overview!C12,'Gap Analysis'!E:E,Overview!D12,'Gap Analysis'!F:F,"Yes")) -> 4 | F12: =IF(D12="",COUNTIFS('Gap Analysis'!C:C,Overview!B12,'Gap Analysis'!D:D,Overview!C12,'Gap Analysis'!E:E,"",'Gap Analysis'!F:F,"Yes", 'Gap Analysis'!G:G,"Yes"),COUNTIFS('Gap Analysis'!C:C,Overview!B12,'Gap Analysis'!D:D,Overview!C12,'Gap Analysis'!E:E,Overview!D12,'Gap Analysis'!F:F,"Yes", 'Gap Analysis'!G:G,"Yes")) -> 0 | G12: =E12-F12 -> 4 | H12: =IF(D12="",COUNTIFS('Gap Analysis'!C:C,Overview!B12,'Gap Analysis'!D:D,Overview!C12,'Gap Analysis'!E:E,"",'Gap Analysis'!M:M,"Yes"),COUNTIFS('Gap Analysis'!C:C,Overview!B12,'Gap Analysis'!D:D,Overview!C12,'Gap Analysis'!E:E,Overview!D12,'Gap Analysis'!M:M,"Yes")) -> 1 | I12: =IF(D12="",COUNTIFS('Gap Analysis'!C:C,Overview!B12,'Gap Analysis'!D:D,Overview!C12,'Gap Analysis'!E:E,"",'Gap Analysis'!M:M,"Yes", 'Gap Analysis'!N:N,"Yes"),COUNTIFS('Gap Analysis'!C:C,Overview!B12,'Gap Analysis'!D:D,Overview!C12,'Gap Analysis'!E:E,Overview!D12,'Gap Analysis'!M:M,"Yes", 'Gap Analysis'!N:N,"Yes")) -> 0 | J12: =H12-I12 -> 1
A13: 10 | B13: The food safety plan – HACCP | C13: Determine the CCPs (equivalent to Codex Alimentarius Step 7, Principle 2) | E13: =IF(D13="",COUNTIFS('Gap Analysis'!C:C,Overview!B13,'Gap Analysis'!D:D,Overview!C13,'Gap Analysis'!E:E,"",'Gap Analysis'!F:F,"Yes"),COUNTIFS('Gap Analysis'!C:C,Overview!B13,'Gap Analysis'!D:D,Overview!C13,'Gap Analysis'!E:E,Overview!D13,'Gap Analysis'!F:F,"Yes")) -> 1 | F13: =IF(D13="",COUNTIFS('Gap Analysis'!C:C,Overview!B13,'Gap Analysis'!D:D,Overview!C13,'Gap Analysis'!E:E,"",'Gap Analysis'!F:F,"Yes", 'Gap Analysis'!G:G,"Yes"),COUNTIFS('Gap Analysis'!C:C,Overview!B13,'Gap Analysis'!D:D,Overview!C13,'Gap Analysis'!E:E,Overview!D13,'Gap Analysis'!F:F,"Yes", 'Gap Analysis'!G:G,"Yes")) -> 0 | G13: =E13-F13 -> 1 | H13: =IF(D13="",COUNTIFS('Gap Analysis'!C:C,Overview!B13,'Gap Analysis'!D:D,Overview!C13,'Gap Analysis'!E:E,"",'Gap Analysis'!M:M,"Yes"),COUNTIFS('Gap Analysis'!C:C,Overview!B13,'Gap Analysis'!D:D,Overview!C13,'Gap Analysis'!E:E,Overview!D13,'Gap Analysis'!M:M,"Yes")) -> 0 | I13: =IF(D13="",COUNTIFS('Gap Analysis'!C:C,Overview!B13,'Gap Analysis'!D:D,Overview!C13,'Gap Analysis'!E:E,"",'Gap Analysis'!M:M,"Yes", 'Gap Analysis'!N:N,"Yes"),COUNTIFS('Gap Analysis'!C:C,Overview!B13,'Gap Analysis'!D:D,Overview!C13,'Gap Analysis'!E:E,Overview!D13,'Gap Analysis'!M:M,"Yes", 'Gap Analysis'!N:N,"Yes")) -> 0 | J13: =H13-I13 -> 0
A14: 11 | B14: The food safety plan – HACCP | C14: Establish validated critical limits for each CCP (equivalent to Codex Alimentarius Step 8, Principle 3) | E14: =IF(D14="",COUNTIFS('Gap Analysis'!C:C,Overview!B14,'Gap Analysis'!D:D,Overview!C14,'Gap Analysis'!E:E,"",'Gap Analysis'!F:F,"Yes"),COUNTIFS('Gap Analysis'!C:C,Overview!B14,'Gap Analysis'!D:D,Overview!C14,'Gap Analysis'!E:E,Overview!D14,'Gap Analysis'!F:F,"Yes")) -> 2 | F14: =IF(D14="",COUNTIFS('Gap Analysis'!C:C,Overview!B14,'Gap Analysis'!D:D,Overview!C14,'Gap Analysis'!E:E,"",'Gap Analysis'!F:F,"Yes", 'Gap Analysis'!G:G,"Yes"),COUNTIFS('Gap Analysis'!C:C,Overview!B14,'Gap Analysis'!D:D,Overview!C14,'Gap Analysis'!E:E,Overview!D14,'Gap Analysis'!F:F,"Yes", 'Gap Analysis'!G:G,"Yes")) -> 0 | G14: =E14-F14 -> 2 | H14: =IF(D14="",COUNTIFS('Gap Analysis'!C:C,Overview!B14,'Gap Analysis'!D:D,Overview!C14,'Gap Analysis'!E:E,"",'Gap Analysis'!M:M,"Yes"),COUNTIFS('Gap Analysis'!C:C,Overview!B14,'Gap Analysis'!D:D,Overview!C14,'Gap Analysis'!E:E,Overview!D14,'Gap Analysis'!M:M,"Yes")) -> 0 | I14: =IF(D14="",COUNTIFS('Gap Analysis'!C:C,Overview!B14,'Gap Analysis'!D:D,Overview!C14,'Gap Analysis'!E:E,"",'Gap Analysis'!M:M,"Yes", 'Gap Analysis'!N:N,"Yes"),COUNTIFS('Gap Analysis'!C:C,Overview!B14,'Gap Analysis'!D:D,Overview!C14,'Gap Analysis'!E:E,Overview!D14,'Gap Analysis'!M:M,"Yes", 'Gap Analysis'!N:N,"Yes")) -> 0 | J14: =H14-I14 -> 0
A15: 12 | B15: The food safety plan – HACCP | C15: Establish a corrective action plan (equivalent to Codex Alimentarius Step 10, Principle 5) | E15: =IF(D15="",COUNTIFS('Gap Analysis'!C:C,Overview!B15,'Gap Analysis'!D:D,Overview!C15,'Gap Analysis'!E:E,"",'Gap Analysis'!F:F,"Yes"),COUNTIFS('Gap Analysis'!C:C,Overview!B15,'Gap Analysis'!D:D,Overview!C15,'Gap Analysis'!E:E,Overview!D15,'Gap Analysis'!F:F,"Yes")) -> 1 | F15: =IF(D15="",COUNTIFS('Gap Analysis'!C:C,Overview!B15,'Gap Analysis'!D:D,Overview!C15,'Gap Analysis'!E:E,"",'Gap Analysis'!F:F,"Yes", 'Gap Analysis'!G:G,"Yes"),COUNTIFS('Gap Analysis'!C:C,Overview!B15,'Gap Analysis'!D:D,Overview!C15,'Gap Analysis'!E:E,Overview!D15,'Gap Analysis'!F:F,"Yes", 'Gap Analysis'!G:G,"Yes")) -> 0 | G15: =E15-F15 -> 1 | H15: =IF(D15="",COUNTIFS('Gap Analysis'!C:C,Overview!B15,'Gap Analysis'!D:D,Overview!C15,'Gap Analysis'!E:E,"",'Gap Analysis'!M:M,"Yes"),COUNTIFS('Gap Analysis'!C:C,Overview!B15,'Gap Analysis'!D:D,Overview!C15,'Gap Analysis'!E:E,Overview!D15,'Gap Analysis'!M:M,"Yes")) -> 0 | I15: =IF(D15="",COUNTIFS('Gap Analysis'!C:C,Overview!B15,'Gap Analysis'!D:D,Overview!C15,'Gap Analysis'!E:E,"",'Gap Analysis'!M:M,"Yes", 'Gap Analysis'!N:N,"Yes"),COUNTIFS('Gap Analysis'!C:C,Overview!B15,'Gap Analysis'!D:D,Overview!C15,'Gap Analysis'!E:E,Overview!D15,'Gap Analysis'!M:M,"Yes", 'Gap Analysis'!N:N,"Yes")) -> 0 | J15: =H15-I15 -> 0
... A21: 18 | B21: Food safety and quality management system | C21: Internal audits | E21: =IF(D21="",COUNTIFS('Gap Analysis'!C:C,Overview!B21,'Gap Analysis'!D:D,Overview!C21,'Gap Analysis'!E:E,"",'Gap Analysis'!F:F,"Yes"),COUNTIFS('Gap Analysis'!C:C,Overview!B21,'Gap Analysis'!D:D,Overview!C21,'Gap Analysis'!E:E,Overview!D21,'Gap Analysis'!F:F,"Yes")) -> 4 | F21: =IF(D21="",COUNTIFS('Gap Analysis'!C:C,Overview!B21,'Gap Analysis'!D:D,Overview!C21,'Gap Analysis'!E:E,"",'Gap Analysis'!F:F,"Yes", 'Gap Analysis'!G:G,"Yes"),COUNTIFS('Gap Analysis'!C:C,Overview!B21,'Gap Analysis'!D:D,Overview!C21,'Gap Analysis'!E:E,Overview!D21,'Gap Analysis'!F:F,"Yes", 'Gap Analysis'!G:G,"Yes")) -> 0 | G21: =E21-F21 -> 4 | H21: =IF(D21="",COUNTIFS('Gap Analysis'!C:C,Overview!B21,'Gap Analysis'!D:D,Overview!C21,'Gap Analysis'!E:E,"",'Gap Analysis'!M:M,"Yes"),COUNTIFS('Gap Analysis'!C:C,Overview!B21,'Gap Analysis'!D:D,Overview!C21,'Gap Analysis'!E:E,Overview!D21,'Gap Analysis'!M:M,"Yes")) -> 0 | I21: =IF(D21="",COUNTIFS('Gap Analysis'!C:C,Overview!B21,'Gap Analysis'!D:D,Overview!C21,'Gap Analysis'!E:E,"",'Gap Analysis'!M:M,"Yes", 'Gap Analysis'!N:N,"Yes"),COUNTIFS('Gap Analysis'!C:C,Overview!B21,'Gap Analysis'!D:D,Overview!C21,'Gap Analysis'!E:E,Overview!D21,'Gap Analysis'!M:M,"Yes", 'Gap Analysis'!N:N,"Yes")) -> 0 | J21: =H21-I21 -> 0
A22: 19 | B22: Food safety and quality management system | C22: Supplier and raw material approval and performance monitoring | D22: Management of suppliers of raw materials and packaging | E22: =IF(D22="",COUNTIFS('Gap Analysis'!C:C,Overview!B22,'Gap Analysis'!D:D,Overview!C22,'Gap Analysis'!E:E,"",'Gap Analysis'!F:F,"Yes"),COUNTIFS('Gap Analysis'!C:C,Overview!B22,'Gap Analysis'!D:D,Overview!C22,'Gap Analysis'!E:E,Overview!D22,'Gap Analysis'!F:F,"Yes")) -> 7 | F22: =IF(D22="",COUNTIFS('Gap Analysis'!C:C,Overview!B22,'Gap Analysis'!D:D,Overview!C22,'Gap Analysis'!E:E,"",'Gap Analysis'!F:F,"Yes", 'Gap Analysis'!G:G,"Yes"),COUNTIFS('Gap Analysis'!C:C,Overview!B22,'Gap Analysis'!D:D,Overview!C22,'Gap Analysis'!E:E,Overview!D22,'Gap Analysis'!F:F,"Yes", 'Gap Analysis'!G:G,"Yes")) -> 0 | G22: =E22-F22 -> 7 | H22: =IF(D22="",COUNTIFS('Gap Analysis'!C:C,Overview!B22,'Gap Analysis'!D:D,Overview!C22,'Gap Analysis'!E:E,"",'Gap Analysis'!M:M,"Yes"),COUNTIFS('Gap Analysis'!C:C,Overview!B22,'Gap Analysis'!D:D,Overview!C22,'Gap Analysis'!E:E,Overview!D22,'Gap Analysis'!M:M,"Yes")) -> 0 | I22: =IF(D22="",COUNTIFS('Gap Analysis'!C:C,Overview!B22,'Gap Analysis'!D:D,Overview!C22,'Gap Analysis'!E:E,"",'Gap Analysis'!M:M,"Yes", 'Gap Analysis'!N:N,"Yes"),COUNTIFS('Gap Analysis'!C:C,Overview!B22,'Gap Analysis'!D:D,Overview!C22,'Gap Analysis'!E:E,Overview!D22,'Gap Analysis'!M:M,"Yes", 'Gap Analysis'!N:N,"Yes")) -> 0 | J22: =H22-I22 -> 0
A23: 20 | B23: Food safety and quality management system | C23: Supplier and raw material approval and performance monitoring | D23: Raw material and packaging acceptance, monitoring and management procedures | E23: =IF(D23="",COUNTIFS('Gap Analysis'!C:C,Overview!B23,'Gap Analysis'!D:D,Overview!C23,'Gap Analysis'!E:E,"",'Gap Analysis'!F:F,"Yes"),COUNTIFS('Gap Analysis'!C:C,Overview!B23,'Gap Analysis'!D:D,Overview!C23,'Gap Analysis'!E:E,Overview!D23,'Gap Analysis'!F:F,"Yes")) -> 2 | F23: =IF(D23="",COUNTIFS('Gap Analysis'!C:C,Overview!B23,'Gap Analysis'!D:D,Overview!C23,'Gap Analysis'!E:E,"",'Gap Analysis'!F:F,"Yes", 'Gap Analysis'!G:G,"Yes"),COUNTIFS('Gap Analysis'!C:C,Overview!B23,'Gap Analysis'!D:D,Overview!C23,'Gap Analysis'!E:E,Overview!D23,'Gap Analysis'!F:F,"Yes", 'Gap Analysis'!G:G,"Yes")) -> 0 | G23: =E23-F23 -> 2 | H23: =IF(D23="",COUNTIFS('Gap Analysis'!C:C,Overview!B23,'Gap Analysis'!D:D,Overview!C23,'Gap Analysis'!E:E,"",'Gap Analysis'!M:M,"Yes"),COUNTIFS('Gap Analysis'!C:C,Overview!B23,'Gap Analysis'!D:D,Overview!C23,'Gap Analysis'!E:E,Overview!D23,'Gap Analysis'!M:M,"Yes")) -> 2 | I23: =IF(D23="",COUNTIFS('Gap Analysis'!C:C,Overview!B23,'Gap Analysis'!D:D,Overview!C23,'Gap Analysis'!E:E,"",'Gap Analysis'!M:M,"Yes", 'Gap Analysis'!N:N,"Yes"),COUNTIFS('Gap Analysis'!C:C,Overview!B23,'Gap Analysis'!D:D,Overview!C23,'Gap Analysis'!E:E,Overview!D23,'Gap Analysis'!M:M,"Yes", 'Gap Analysis'!N:N,"Yes")) -> 0 | J23: =H23-I23 -> 2
A24: 21 | B24: Food safety and quality management system | C24: Supplier and raw material approval and performance monitoring | D24: Management of suppliers of services | E24: =IF(D24="",COUNTIFS('Gap Analysis'!C:C,Overview!B24,'Gap Analysis'!D:D,Overview!C24,'Gap Analysis'!E:E,"",'Gap Analysis'!F:F,"Yes"),COUNTIFS('Gap Analysis'!C:C,Overview!B24,'Gap Analysis'!D:D,Overview!C24,'Gap Analysis'!E:E,Overview!D24,'Gap Analysis'!F:F,"Yes")) -> 3 | F24: =IF(D24="",COUNTIFS('Gap Analysis'!C:C,Overview!B24,'Gap Analysis'!D:D,Overview!C24,'Gap Analysis'!E:E,"",'Gap Analysis'!F:F,"Yes", 'Gap Analysis'!G:G,"Yes"),COUNTIFS('Gap Analysis'!C:C,Overview!B24,'Gap Analysis'!D:D,Overview!C24,'Gap Analysis'!E:E,Overview!D24,'Gap Analysis'!F:F,"Yes", 'Gap Analysis'!G:G,"Yes")) -> 0 | G24: =E24-F24 -> 3 | H24: =IF(D24="",COUNTIFS('Gap Analysis'!C:C,Overview!B24,'Gap Analysis'!D:D,Overview!C24,'Gap Analysis'!E:E,"",'Gap Analysis'!M:M,"Yes"),COUNTIFS('Gap Analysis'!C:C,Overview!B24,'Gap Analysis'!D:D,Overview!C24,'Gap Analysis'!E:E,Overview!D24,'Gap Analysis'!M:M,"Yes")) -> 0 | I24: =IF(D24="",COUNTIFS('Gap Analysis'!C:C,Overview!B24,'Gap Analysis'!D:D,Overview!C24,'Gap Analysis'!E:E,"",'Gap Analysis'!M:M,"Yes", 'Gap Analysis'!N:N,"Yes"),COUNTIFS('Gap Analysis'!C:C,Overview!B24,'Gap Analysis'!D:D,Overview!C24,'Gap Analysis'!E:E,Overview!D24,'Gap Analysis'!M:M,"Yes", 'Gap Analysis'!N:N,"Yes")) -> 0 | J24: =H24-I24 -> 0
A25: 22 | B25: Food safety and quality management system | C25: Supplier and raw material approval and performance monitoring | D25: Management of outsourced processing | E25: =IF(D25="",COUNTIFS('Gap Analysis'!C:C,Overview!B25,'Gap Analysis'!D:D,Overview!C25,'Gap Analysis'!E:E,"",'Gap Analysis'!F:F,"Yes"),COUNTIFS('Gap Analysis'!C:C,Overview!B25,'Gap Analysis'!D:D,Overview!C25,'Gap Analysis'!E:E,Overview!D25,'Gap Analysis'!F:F,"Yes")) -> 6 | F25: =IF(D25="",COUNTIFS('Gap Analysis'!C:C,Overview!B25,'Gap Analysis'!D:D,Overview!C25,'Gap Analysis'!E:E,"",'Gap Analysis'!F:F,"Yes", 'Gap Analysis'!G:G,"Yes"),COUNTIFS('Gap Analysis'!C:C,Overview!B25,'Gap Analysis'!D:D,Overview!C25,'Gap Analysis'!E:E,Overview!D25,'Gap Analysis'!F:F,"Yes", 'Gap Analysis'!G:G,"Yes")) -> 0 | G25: =E25-F25 -> 6 | H25: =IF(D25="",COUNTIFS('Gap Analysis'!C:C,Overview!B25,'Gap Analysis'!D:D,Overview!C25,'Gap Analysis'!E:E,"",'Gap Analysis'!M:M,"Yes"),COUNTIFS('Gap Analysis'!C:C,Overview!B25,'Gap Analysis'!D:D,Overview!C25,'Gap Analysis'!E:E,Overview!D25,'Gap Analysis'!M:M,"Yes")) -> 1 | I25: =IF(D25="",COUNTIFS('Gap Analysis'!C:C,Overview!B25,'Gap Analysis'!D:D,Overview!C25,'Gap Analysis'!E:E,"",'Gap Analysis'!M:M,"Yes", 'Gap Analysis'!N:N,"Yes"),COUNTIFS('Gap Analysis'!C:C,Overview!B25,'Gap Analysis'!D:D,Overview!C25,'Gap Analysis'!E:E,Overview!D25,'Gap Analysis'!M:M,"Yes", 'Gap Analysis'!N:N,"Yes")) -> 0 | J25: =H25-I25 -> 1
A26: 23 | B26: Food safety and quality management system | C26: Specifications | E26: =IF(D26="",COUNTIFS('Gap Analysis'!C:C,Overview!B26,'Gap Analysis'!D:D,Overview!C26,'Gap Analysis'!E:E,"",'Gap Analysis'!F:F,"Yes"),COUNTIFS('Gap Analysis'!C:C,Overview!B26,'Gap Analysis'!D:D,Overview!C26,'Gap Analysis'!E:E,Overview!D26,'Gap Analysis'!F:F,"Yes")) -> 4 | F26: =IF(D26="",COUNTIFS('Gap Analysis'!C:C,Overview!B26,'Gap Analysis'!D:D,Overview!C26,'Gap Analysis'!E:E,"",'Gap Analysis'!F:F,"Yes", 'Gap Analysis'!G:G,"Yes"),COUNTIFS('Gap Analysis'!C:C,Overview!B26,'Gap Analysis'!D:D,Overview!C26,'Gap Analysis'!E:E,Overview!D26,'Gap Analysis'!F:F,"Yes", 'Gap Analysis'!G:G,"Yes")) -> 0 | G26: =E26-F26 -> 4 | H26: =IF(D26="",COUNTIFS('Gap Analysis'!C:C,Overview!B26,'Gap Analysis'!D:D,Overview!C26,'Gap Analysis'!E:E,"",'Gap Analysis'!M:M,"Yes"),COUNTIFS('Gap Analysis'!C:C,Overview!B26,'Gap Analysis'!D:D,Overview!C26,'Gap Analysis'!E:E,Overview!D26,'Gap Analysis'!M:M,"Yes")) -> 0 | I26: =IF(D26="",COUNTIFS('Gap Analysis'!C:C,Overview!B26,'Gap Analysis'!D:D,Overview!C26,'Gap Analysis'!E:E,"",'Gap Analysis'!M:M,"Yes", 'Gap Analysis'!N:N,"Yes"),COUNTIFS('Gap Analysis'!C:C,Overview!B26,'Gap Analysis'!D:D,Overview!C26,'Gap Analysis'!E:E,Overview!D26,'Gap Analysis'!M:M,"Yes", 'Gap Analysis'!N:N,"Yes")) -> 0 | J26: =H26-I26 -> 0
A27: 24 | B27: Food safety and quality management system | C27: Corrective and preventive actions | E27: =IF(D27="",COUNTIFS('Gap Analysis'!C:C,Overview!B27,'Gap Analysis'!D:D,Overview!C27,'Gap Analysis'!E:E,"",'Gap Analysis'!F:F,"Yes"),COUNTIFS('Gap Analysis'!C:C,Overview!B27,'Gap Analysis'!D:D,Overview!C27,'Gap Analysis'!E:E,Overview!D27,'Gap Analysis'!F:F,"Yes")) -> 2 | F27: =IF(D27="",COUNTIFS('Gap Analysis'!C:C,Overview!B27,'Gap Analysis'!D:D,Overview!C27,'Gap Analysis'!E:E,"",'Gap Analysis'!F:F,"Yes", 'Gap Analysis'!G:G,"Yes"),COUNTIFS('Gap Analysis'!C:C,Overview!B27,'Gap Analysis'!D:D,Overview!C27,'Gap Analysis'!E:E,Overview!D27,'Gap Analysis'!F:F,"Yes", 'Gap Analysis'!G:G,"Yes")) -> 0 | G27: =E27-F27 -> 2 | H27: =IF(D27="",COUNTIFS('Gap Analysis'!C:C,Overview!B27,'Gap Analysis'!D:D,Overview!C27,'Gap Analysis'!E:E,"",'Gap Analysis'!M:M,"Yes"),COUNTIFS('Gap Analysis'!C:C,Overview!B27,'Gap Analysis'!D:D,Overview!C27,'Gap Analysis'!E:E,Overview!D27,'Gap Analysis'!M:M,"Yes")) -> 1 | I27: =IF(D27="",COUNTIFS('Gap Analysis'!C:C,Overview!B27,'Gap Analysis'!D:D,Overview!C27,'Gap Analysis'!E:E,"",'Gap Analysis'!M:M,"Yes", 'Gap Analysis'!N:N,"Yes"),COUNTIFS('Gap Analysis'!C:C,Overview!B27,'Gap Analysis'!D:D,Overview!C27,'Gap Analysis'!E:E,Overview!D27,'Gap Analysis'!M:M,"Yes", 'Gap Analysis'!N:N,"Yes")) -> 0 | J27: =H27-I27 -> 1
A28: 25 | B28: Food safety and quality management system | C28: Control of non-conforming product | E28: =IF(D28="",COUNTIFS('Gap Analysis'!C:C,Overview!B28,'Gap Analysis'!D:D,Overview!C28,'Gap Analysis'!E:E,"",'Gap Analysis'!F:F,"Yes"),COUNTIFS('Gap Analysis'!C:C,Overview!B28,'Gap Analysis'!D:D,Overview!C28,'Gap Analysis'!E:E,Overview!D28,'Gap Analysis'!F:F,"Yes")) -> 1 | F28: =IF(D28="",COUNTIFS('Gap Analysis'!C:C,Overview!B28,'Gap Analysis'!D:D,Overview!C28,'Gap Analysis'!E:E,"",'Gap Analysis'!F:F,"Yes", 'Gap Analysis'!G:G,"Yes"),COUNTIFS('Gap Analysis'!C:C,Overview!B28,'Gap Analysis'!D:D,Overview!C28,'Gap Analysis'!E:E,Overview!D28,'Gap Analysis'!F:F,"Yes", 'Gap Analysis'!G:G,"Yes")) -> 0 | G28: =E28-F28 -> 1 | H28: =IF(D28="",COUNTIFS('Gap Analysis'!C:C,Overview!B28,'Gap Analysis'!D:D,Overview!C28,'Gap Analysis'!E:E,"",'Gap Analysis'!M:M,"Yes"),COUNTIFS('Gap Analysis'!C:C,Overview!B28,'Gap Analysis'!D:D,Overview!C28,'Gap Analysis'!E:E,Overview!D28,'Gap Analysis'!M:M,"Yes")) -> 1 | I28: =IF(D28="",COUNTIFS('Gap Analysis'!C:C,Overview!B28,'Gap Analysis'!D:D,Overview!C28,'Gap Analysis'!E:E,"",'Gap Analysis'!M:M,"Yes", 'Gap Analysis'!N:N,"Yes"),COUNTIFS('Gap Analysis'!C:C,Overview!B28,'Gap Analysis'!D:D,Overview!C28,'Gap Analysis'!E:E,Overview!D28,'Gap Analysis'!M:M,"Yes", 'Gap Analysis'!N:N,"Yes")) -> 0 | J28: =H28-I28 -> 1
A29: 26 | B29: Food safety and quality management system | C29: Traceability | E29: =IF(D29="",COUNTIFS('Gap Analysis'!C:C,Overview!B29,'Gap Analysis'!D:D,Overview!C29,'Gap Analysis'!E:E,"",'Gap Analysis'!F:F,"Yes"),COUNTIFS('Gap Analysis'!C:C,Overview!B29,'Gap Analysis'!D:D,Overview!C29,'Gap Analysis'!E:E,Overview!D29,'Gap Analysis'!F:F,"Yes")) -> 3 | F29: =IF(D29="",COUNTIFS('Gap Analysis'!C:C,Overview!B29,'Gap Analysis'!D:D,Overview!C29,'Gap Analysis'!E:E,"",'Gap Analysis'!F:F,"Yes", 'Gap Analysis'!G:G,"Yes"),COUNTIFS('Gap Analysis'!C:C,Overview!B29,'Gap Analysis'!D:D,Overview!C29,'Gap Analysis'!E:E,Overview!D29,'Gap Analysis'!F:F,"Yes", 'Gap Analysis'!G:G,"Yes")) -> 0 | G29: =E29-F29 -> 3 | H29: =IF(D29="",COUNTIFS('Gap Analysis'!C:C,Overview!B29,'Gap Analysis'!D:D,Overview!C29,'Gap Analysis'!E:E,"",'Gap Analysis'!M:M,"Yes"),COUNTIFS('Gap Analysis'!C:C,Overview!B29,'Gap Analysis'!D:D,Overview!C29,'Gap Analysis'!E:E,Overview!D29,'Gap Analysis'!M:M,"Yes")) -> 2 | I29: =IF(D29="",COUNTIFS('Gap Analysis'!C:C,Overview!B29,'Gap Analysis'!D:D,Overview!C29,'Gap Analysis'!E:E,"",'Gap Analysis'!M:M,"Yes", 'Gap Analysis'!N:N,"Yes"),COUNTIFS('Gap Analysis'!C:C,Overview!B29,'Gap Analysis'!D:D,Overview!C29,'Gap Analysis'!E:E,Overview!D29,'Gap Analysis'!M:M,"Yes", 'Gap Analysis'!N:N,"Yes")) -> 0 | J29: =H29-I29 -> 2
A30: 27 | B30: Food safety and quality management system | C30: Management of incidents, product withdrawal and product recall | E30: =IF(D30="",COUNTIFS('Gap Analysis'!C:C,Overview!B30,'Gap Analysis'!D:D,Overview!C30,'Gap Analysis'!E:E,"",'Gap Analysis'!F:F,"Yes"),COUNTIFS('Gap Analysis'!C:C,Overview!B30,'Gap Analysis'!D:D,Overview!C30,'Gap Analysis'!E:E,Overview!D30,'Gap Analysis'!F:F,"Yes")) -> 4 | F30: =IF(D30="",COUNTIFS('Gap Analysis'!C:C,Overview!B30,'Gap Analysis'!D:D,Overview!C30,'Gap Analysis'!E:E,"",'Gap Analysis'!F:F,"Yes", 'Gap Analysis'!G:G,"Yes"),COUNTIFS('Gap Analysis'!C:C,Overview!B30,'Gap Analysis'!D:D,Overview!C30,'Gap Analysis'!E:E,Overview!D30,'Gap Analysis'!F:F,"Yes", 'Gap Analysis'!G:G,"Yes")) -> 0 | G30: =E30-F30 -> 4 | H30: =IF(D30="",COUNTIFS('Gap Analysis'!C:C,Overview!B30,'Gap Analysis'!D:D,Overview!C30,'Gap Analysis'!E:E,"",'Gap Analysis'!M:M,"Yes"),COUNTIFS('Gap Analysis'!C:C,Overview!B30,'Gap Analysis'!D:D,Overview!C30,'Gap Analysis'!E:E,Overview!D30,'Gap Analysis'!M:M,"Yes")) -> 0 | I30: =IF(D30="",COUNTIFS('Gap Analysis'!C:C,Overview!B30,'Gap Analysis'!D:D,Overview!C30,'Gap Analysis'!E:E,"",'Gap Analysis'!M:M,"Yes", 'Gap Analysis'!N:N,"Yes"),COUNTIFS('Gap Analysis'!C:C,Overview!B30,'Gap Analysis'!D:D,Overview!C30,'Gap Analysis'!E:E,Overview!D30,'Gap Analysis'!M:M,"Yes", 'Gap Analysis'!N:N,"Yes")) -> 0 | J30: =H30-I30 -> 0
A31: 28 | B31: Site standards | C31: External standards and site security | E31: =IF(D31="",COUNTIFS('Gap Analysis'!C:C,Overview!B31,'Gap Analysis'!D:D,Overview!C31,'Gap Analysis'!E:E,"",'Gap Analysis'!F:F,"Yes"),COUNTIFS('Gap Analysis'!C:C,Overview!B31,'Gap Analysis'!D:D,Overview!C31,'Gap Analysis'!E:E,Overview!D31,'Gap Analysis'!F:F,"Yes")) -> 1 | F31: =IF(D31="",COUNTIFS('Gap Analysis'!C:C,Overview!B31,'Gap Analysis'!D:D,Overview!C31,'Gap Analysis'!E:E,"",'Gap Analysis'!F:F,"Yes", 'Gap Analysis'!G:G,"Yes"),COUNTIFS('Gap Analysis'!C:C,Overview!B31,'Gap Analysis'!D:D,Overview!C31,'Gap Analysis'!E:E,Overview!D31,'Gap Analysis'!F:F,"Yes", 'Gap Analysis'!G:G,"Yes")) -> 0 | G31: =E31-F31 -> 1 | H31: =IF(D31="",COUNTIFS('Gap Analysis'!C:C,Overview!B31,'Gap Analysis'!D:D,Overview!C31,'Gap Analysis'!E:E,"",'Gap Analysis'!M:M,"Yes"),COUNTIFS('Gap Analysis'!C:C,Overview!B31,'Gap Analysis'!D:D,Overview!C31,'Gap Analysis'!E:E,Overview!D31,'Gap Analysis'!M:M,"Yes")) -> 4 | I31: =IF(D31="",COUNTIFS('Gap Analysis'!C:C,Overview!B31,'Gap Analysis'!D:D,Overview!C31,'Gap Analysis'!E:E,"",'Gap Analysis'!M:M,"Yes", 'Gap Analysis'!N:N,"Yes"),COUNTIFS('Gap Analysis'!C:C,Overview!B31,'Gap Analysis'!D:D,Overview!C31,'Gap Analysis'!E:E,Overview!D31,'Gap Analysis'!M:M,"Yes", 'Gap Analysis'!N:N,"Yes")) -> 0 | J31: =H31-I31 -> 4
A32: 29 | B32: Site standards | C32: Food defence | E32: =IF(D32="",COUNTIFS('Gap Analysis'!C:C,Overview!B32,'Gap Analysis'!D:D,Overview!C32,'Gap Analysis'!E:E,"",'Gap Analysis'!F:F,"Yes"),COUNTIFS('Gap Analysis'!C:C,Overview!B32,'Gap Analysis'!D:D,Overview!C32,'Gap Analysis'!E:E,Overview!D32,'Gap Analysis'!F:F,"Yes")) -> 3 | F32: =IF(D32="",COUNTIFS('Gap Analysis'!C:C,Overview!B32,'Gap Analysis'!D:D,Overview!C32,'Gap Analysis'!E:E,"",'Gap Analysis'!F:F,"Yes", 'Gap Analysis'!G:G,"Yes"),COUNTIFS('Gap Analysis'!C:C,Overview!B32,'Gap Analysis'!D:D,Overview!C32,'Gap Analysis'!E:E,Overview!D32,'Gap Analysis'!F:F,"Yes", 'Gap Analysis'!G:G,"Yes")) -> 0 | G32: =E32-F32 -> 3 | H32: =IF(D32="",COUNTIFS('Gap Analysis'!C:C,Overview!B32,'Gap Analysis'!D:D,Overview!C32,'Gap Analysis'!E:E,"",'Gap Analysis'!M:M,"Yes"),COUNTIFS('Gap Analysis'!C:C,Overview!B32,'Gap Analysis'!D:D,Overview!C32,'Gap Analysis'!E:E,Overview!D32,'Gap Analysis'!M:M,"Yes")) -> 1 | I32: =IF(D32="",COUNTIFS('Gap Analysis'!C:C,Overview!B32,'Gap Analysis'!D:D,Overview!C32,'Gap Analysis'!E:E,"",'Gap Analysis'!M:M,"Yes", 'Gap Analysis'!N:N,"Yes"),COUNTIFS('Gap Analysis'!C:C,Overview!B32,'Gap Analysis'!D:D,Overview!C32,'Gap Analysis'!E:E,Overview!D32,'Gap Analysis'!M:M,"Yes", 'Gap Analysis'!N:N,"Yes")) -> 0 | J32: =H32-I32 -> 1
A33: 30 | B33: Site standards | C33: Layout, product flow and segregation | E33: =IF(D33="",COUNTIFS('Gap Analysis'!C:C,Overview!B33,'Gap Analysis'!D:D,Overview!C33,'Gap Analysis'!E:E,"",'Gap Analysis'!F:F,"Yes"),COUNTIFS('Gap Analysis'!C:C,Overview!B33,'Gap Analysis'!D:D,Overview!C33,'Gap Analysis'!E:E,Overview!D33,'Gap Analysis'!F:F,"Yes")) -> 2 | F33: =IF(D33="",COUNTIFS('Gap Analysis'!C:C,Overview!B33,'Gap Analysis'!D:D,Overview!C33,'Gap Analysis'!E:E,"",'Gap Analysis'!F:F,"Yes", 'Gap Analysis'!G:G,"Yes"),COUNTIFS('Gap Analysis'!C:C,Overview!B33,'Gap Analysis'!D:D,Overview!C33,'Gap Analysis'!E:E,Overview!D33,'Gap Analysis'!F:F,"Yes", 'Gap Analysis'!G:G,"Yes")) -> 0 | G33: =E33-F33 -> 2 | H33: =IF(D33="",COUNTIFS('Gap Analysis'!C:C,Overview!B33,'Gap Analysis'!D:D,Overview!C33,'Gap Analysis'!E:E,"",'Gap Analysis'!M:M,"Yes"),COUNTIFS('Gap Analysis'!C:C,Overview!B33,'Gap Analysis'!D:D,Overview!C33,'Gap Analysis'!E:E,Overview!D33,'Gap Analysis'!M:M,"Yes")) -> 6 | I33: =IF(D33="",COUNTIFS('Gap Analysis'!C:C,Overview!B33,'Gap Analysis'!D:D,Overview!C33,'Gap Analysis'!E:E,"",'Gap Analysis'!M:M,"Yes", 'Gap Analysis'!N:N,"Yes"),COUNTIFS('Gap Analysis'!C:C,Overview!B33,'Gap Analysis'!D:D,Overview!C33,'Gap Analysis'!E:E,Overview!D33,'Gap Analysis'!M:M,"Yes", 'Gap Analysis'!N:N,"Yes")) -> 0 | J33: =H33-I33 -> 6
A34: 31 | B34: Site standards | C34: Building fabric, raw material-handling, preparation, processing, packing and storage areas | E34: =IF(D34="",COUNTIFS('Gap Analysis'!C:C,Overview!B34,'Gap Analysis'!D:D,Overview!C34,'Gap Analysis'!E:E,"",'Gap Analysis'!F:F,"Yes"),COUNTIFS('Gap Analysis'!C:C,Overview!B34,'Gap Analysis'!D:D,Overview!C34,'Gap Analysis'!E:E,Overview!D34,'Gap Analysis'!F:F,"Yes")) -> 0 | F34: =IF(D34="",COUNTIFS('Gap Analysis'!C:C,Overview!B34,'Gap Analysis'!D:D,Overview!C34,'Gap Analysis'!E:E,"",'Gap Analysis'!F:F,"Yes", 'Gap Analysis'!G:G,"Yes"),COUNTIFS('Gap Analysis'!C:C,Overview!B34,'Gap Analysis'!D:D,Overview!C34,'Gap Analysis'!E:E,Overview!D34,'Gap Analysis'!F:F,"Yes", 'Gap Analysis'!G:G,"Yes")) -> 0 | G34: =E34-F34 -> 0 | H34: =IF(D34="",COUNTIFS('Gap Analysis'!C:C,Overview!B34,'Gap Analysis'!D:D,Overview!C34,'Gap Analysis'!E:E,"",'Gap Analysis'!M:M,"Yes"),COUNTIFS('Gap Analysis'!C:C,Overview!B34,'Gap Analysis'!D:D,Overview!C34,'Gap Analysis'!E:E,Overview!D34,'Gap Analysis'!M:M,"Yes")) -> 11 | I34: =IF(D34="",COUNTIFS('Gap Analysis'!C:C,Overview!B34,'Gap Analysis'!D:D,Overview!C34,'Gap Analysis'!E:E,"",'Gap Analysis'!M:M,"Yes", 'Gap Analysis'!N:N,"Yes"),COUNTIFS('Gap Analysis'!C:C,Overview!B34,'Gap Analysis'!D:D,Overview!C34,'Gap Analysis'!E:E,Overview!D34,'Gap Analysis'!M:M,"Yes", 'Gap Analysis'!N:N,"Yes")) -> 0 | J34: =H34-I34 -> 11
A35: 32 | B35: Site standards | C35: Utilities – water, ice, air and other gases | E35: =IF(D35="",COUNTIFS('Gap Analysis'!C:C,Overview!B35,'Gap Analysis'!D:D,Overview!C35,'Gap Analysis'!E:E,"",'Gap Analysis'!F:F,"Yes"),COUNTIFS('Gap Analysis'!C:C,Overview!B35,'Gap Analysis'!D:D,Overview!C35,'Gap Analysis'!E:E,Overview!D35,'Gap Analysis'!F:F,"Yes")) -> 3 | F35: =IF(D35="",COUNTIFS('Gap Analysis'!C:C,Overview!B35,'Gap Analysis'!D:D,Overview!C35,'Gap Analysis'!E:E,"",'Gap Analysis'!F:F,"Yes", 'Gap Analysis'!G:G,"Yes"),COUNTIFS('Gap Analysis'!C:C,Overview!B35,'Gap Analysis'!D:D,Overview!C35,'Gap Analysis'!E:E,Overview!D35,'Gap Analysis'!F:F,"Yes", 'Gap Analysis'!G:G,"Yes")) -> 0 | G35: =E35-F35 -> 3 | H35: =IF(D35="",COUNTIFS('Gap Analysis'!C:C,Overview!B35,'Gap Analysis'!D:D,Overview!C35,'Gap Analysis'!E:E,"",'Gap Analysis'!M:M,"Yes"),COUNTIFS('Gap Analysis'!C:C,Overview!B35,'Gap Analysis'!D:D,Overview!C35,'Gap Analysis'!E:E,Overview!D35,'Gap Analysis'!M:M,"Yes")) -> 1 | I35: =IF(D35="",COUNTIFS('Gap Analysis'!C:C,Overview!B35,'Gap Analysis'!D:D,Overview!C35,'Gap Analysis'!E:E,"",'Gap Analysis'!M:M,"Yes", 'Gap Analysis'!N:N,"Yes"),COUNTIFS('Gap Analysis'!C:C,Overview!B35,'Gap Analysis'!D:D,Overview!C35,'Gap Analysis'!E:E,Overview!D35,'Gap Analysis'!M:M,"Yes", 'Gap Analysis'!N:N,"Yes")) -> 0 | J35: =H35-I35 -> 1
A36: 33 | B36: Site standards | C36: Equipment | E36: =IF(D36="",COUNTIFS('Gap Analysis'!C:C,Overview!B36,'Gap Analysis'!D:D,Overview!C36,'Gap Analysis'!E:E,"",'Gap Analysis'!F:F,"Yes"),COUNTIFS('Gap Analysis'!C:C,Overview!B36,'Gap Analysis'!D:D,Overview!C36,'Gap Analysis'!E:E,Overview!D36,'Gap Analysis'!F:F,"Yes")) -> 3 | F36: =IF(D36="",COUNTIFS('Gap Analysis'!C:C,Overview!B36,'Gap Analysis'!D:D,Overview!C36,'Gap Analysis'!E:E,"",'Gap Analysis'!F:F,"Yes", 'Gap Analysis'!G:G,"Yes"),COUNTIFS('Gap Analysis'!C:C,Overview!B36,'Gap Analysis'!D:D,Overview!C36,'Gap Analysis'!E:E,Overview!D36,'Gap Analysis'!F:F,"Yes", 'Gap Analysis'!G:G,"Yes")) -> 0 | G36: =E36-F36 -> 3 | H36: =IF(D36="",COUNTIFS('Gap Analysis'!C:C,Overview!B36,'Gap Analysis'!D:D,Overview!C36,'Gap Analysis'!E:E,"",'Gap Analysis'!M:M,"Yes"),COUNTIFS('Gap Analysis'!C:C,Overview!B36,'Gap Analysis'!D:D,Overview!C36,'Gap Analysis'!E:E,Overview!D36,'Gap Analysis'!M:M,"Yes")) -> 5 | I36: =IF(D36="",COUNTIFS('Gap Analysis'!C:C,Overview!B36,'Gap Analysis'!D:D,Overview!C36,'Gap Analysis'!E:E,"",'Gap Analysis'!M:M,"Yes", 'Gap Analysis'!N:N,"Yes"),COUNTIFS('Gap Analysis'!C:C,Overview!B36,'Gap Analysis'!D:D,Overview!C36,'Gap Analysis'!E:E,Overview!D36,'Gap Analysis'!M:M,"Yes", 'Gap Analysis'!N:N,"Yes")) -> 0 | J36: =H36-I36 -> 5
A37: 34 | B37: Site standards | C37: Maintenance | E37: =IF(D37="",COUNTIFS('Gap Analysis'!C:C,Overview!B37,'Gap Analysis'!D:D,Overview!C37,'Gap Analysis'!E:E,"",'Gap Analysis'!F:F,"Yes"),COUNTIFS('Gap Analysis'!C:C,Overview!B37,'Gap Analysis'!D:D,Overview!C37,'Gap Analysis'!E:E,Overview!D37,'Gap Analysis'!F:F,"Yes")) -> 1 | F37: =IF(D37="",COUNTIFS('Gap Analysis'!C:C,Overview!B37,'Gap Analysis'!D:D,Overview!C37,'Gap Analysis'!E:E,"",'Gap Analysis'!F:F,"Yes", 'Gap Analysis'!G:G,"Yes"),COUNTIFS('Gap Analysis'!C:C,Overview!B37,'Gap Analysis'!D:D,Overview!C37,'Gap Analysis'!E:E,Overview!D37,'Gap Analysis'!F:F,"Yes", 'Gap Analysis'!G:G,"Yes")) -> 0 | G37: =E37-F37 -> 1 | H37: =IF(D37="",COUNTIFS('Gap Analysis'!C:C,Overview!B37,'Gap Analysis'!D:D,Overview!C37,'Gap Analysis'!E:E,"",'Gap Analysis'!M:M,"Yes"),COUNTIFS('Gap Analysis'!C:C,Overview!B37,'Gap Analysis'!D:D,Overview!C37,'Gap Analysis'!E:E,Overview!D37,'Gap Analysis'!M:M,"Yes")) -> 5 | I37: =IF(D37="",COUNTIFS('Gap Analysis'!C:C,Overview!B37,'Gap Analysis'!D:D,Overview!C37,'Gap Analysis'!E:E,"",'Gap Analysis'!M:M,"Yes", 'Gap Analysis'!N:N,"Yes"),COUNTIFS('Gap Analysis'!C:C,Overview!B37,'Gap Analysis'!D:D,Overview!C37,'Gap Analysis'!E:E,Overview!D37,'Gap Analysis'!M:M,"Yes", 'Gap Analysis'!N:N,"Yes")) -> 0 | J37: =H37-I37 -> 5
A38: 35 | B38: Site standards | C38: Staff facilities | E38: =IF(D38="",COUNTIFS('Gap Analysis'!C:C,Overview!B38,'Gap Analysis'!D:D,Overview!C38,'Gap Analysis'!E:E,"",'Gap Analysis'!F:F,"Yes"),COUNTIFS('Gap Analysis'!C:C,Overview!B38,'Gap Analysis'!D:D,Overview!C38,'Gap Analysis'!E:E,Overview!D38,'Gap Analysis'!F:F,"Yes")) -> 1 | F38: =IF(D38="",COUNTIFS('Gap Analysis'!C:C,Overview!B38,'Gap Analysis'!D:D,Overview!C38,'Gap Analysis'!E:E,"",'Gap Analysis'!F:F,"Yes", 'Gap Analysis'!G:G,"Yes"),COUNTIFS('Gap Analysis'!C:C,Overview!B38,'Gap Analysis'!D:D,Overview!C38,'Gap Analysis'!E:E,Overview!D38,'Gap Analysis'!F:F,"Yes", 'Gap Analysis'!G:G,"Yes")) -> 0 | G38: =E38-F38 -> 1 | H38: =IF(D38="",COUNTIFS('Gap Analysis'!C:C,Overview!B38,'Gap Analysis'!D:D,Overview!C38,'Gap Analysis'!E:E,"",'Gap Analysis'!M:M,"Yes"),COUNTIFS('Gap Analysis'!C:C,Overview!B38,'Gap Analysis'!D:D,Overview!C38,'Gap Analysis'!E:E,Overview!D38,'Gap Analysis'!M:M,"Yes")) -> 8 | I38: =IF(D38="",COUNTIFS('Gap Analysis'!C:C,Overview!B38,'Gap Analysis'!D:D,Overview!C38,'Gap Analysis'!E:E,"",'Gap Analysis'!M:M,"Yes", 'Gap Analysis'!N:N,"Yes"),COUNTIFS('Gap Analysis'!C:C,Overview!B38,'Gap Analysis'!D:D,Overview!C38,'Gap Analysis'!E:E,Overview!D38,'Gap Analysis'!M:M,"Yes", 'Gap Analysis'!N:N,"Yes")) -> 0 | J38: =H38-I38 -> 8
A39: 36 | B39: Site standards | C39: Chemical and physical product contamination control: raw material-handling, preparation, processing, packing and storage areas | D39: Chemical control | E39: =IF(D39="",COUNTIFS('Gap Analysis'!C:C,Overview!B39,'Gap Analysis'!D:D,Overview!C39,'Gap Analysis'!E:E,"",'Gap Analysis'!F:F,"Yes"),COUNTIFS('Gap Analysis'!C:C,Overview!B39,'Gap Analysis'!D:D,Overview!C39,'Gap Analysis'!E:E,Overview!D39,'Gap Analysis'!F:F,"Yes")) -> 1 | F39: =IF(D39="",COUNTIFS('Gap Analysis'!C:C,Overview!B39,'Gap Analysis'!D:D,Overview!C39,'Gap Analysis'!E:E,"",'Gap Analysis'!F:F,"Yes", 'Gap Analysis'!G:G,"Yes"),COUNTIFS('Gap Analysis'!C:C,Overview!B39,'Gap Analysis'!D:D,Overview!C39,'Gap Analysis'!E:E,Overview!D39,'Gap Analysis'!F:F,"Yes", 'Gap Analysis'!G:G,"Yes")) -> 0 | G39: =E39-F39 -> 1 | H39: =IF(D39="",COUNTIFS('Gap Analysis'!C:C,Overview!B39,'Gap Analysis'!D:D,Overview!C39,'Gap Analysis'!E:E,"",'Gap Analysis'!M:M,"Yes"),COUNTIFS('Gap Analysis'!C:C,Overview!B39,'Gap Analysis'!D:D,Overview!C39,'Gap Analysis'!E:E,Overview!D39,'Gap Analysis'!M:M,"Yes")) -> 2 | I39: =IF(D39="",COUNTIFS('Gap Analysis'!C:C,Overview!B39,'Gap Analysis'!D:D,Overview!C39,'Gap Analysis'!E:E,"",'Gap Analysis'!M:M,"Yes", 'Gap Analysis'!N:N,"Yes"),COUNTIFS('Gap Analysis'!C:C,Overview!B39,'Gap Analysis'!D:D,Overview!C39,'Gap Analysis'!E:E,Overview!D39,'Gap Analysis'!M:M,"Yes", 'Gap Analysis'!N:N,"Yes")) -> 0 | J39: =H39-I39 -> 2
A40: 37 | B40: Site standards | C40: Chemical and physical product contamination control: raw material-handling, preparation, processing, packing and storage areas | D40: Metal control | E40: =IF(D40="",COUNTIFS('Gap Analysis'!C:C,Overview!B40,'Gap Analysis'!D:D,Overview!C40,'Gap Analysis'!E:E,"",'Gap Analysis'!F:F,"Yes"),COUNTIFS('Gap Analysis'!C:C,Overview!B40,'Gap Analysis'!D:D,Overview!C40,'Gap Analysis'!E:E,Overview!D40,'Gap Analysis'!F:F,"Yes")) -> 0 | F40: =IF(D40="",COUNTIFS('Gap Analysis'!C:C,Overview!B40,'Gap Analysis'!D:D,Overview!C40,'Gap Analysis'!E:E,"",'Gap Analysis'!F:F,"Yes", 'Gap Analysis'!G:G,"Yes"),COUNTIFS('Gap Analysis'!C:C,Overview!B40,'Gap Analysis'!D:D,Overview!C40,'Gap Analysis'!E:E,Overview!D40,'Gap Analysis'!F:F,"Yes", 'Gap Analysis'!G:G,"Yes")) -> 0 | G40: =E40-F40 -> 0 | H40: =IF(D40="",COUNTIFS('Gap Analysis'!C:C,Overview!B40,'Gap Analysis'!D:D,Overview!C40,'Gap Analysis'!E:E,"",'Gap Analysis'!M:M,"Yes"),COUNTIFS('Gap Analysis'!C:C,Overview!B40,'Gap Analysis'!D:D,Overview!C40,'Gap Analysis'!E:E,Overview!D40,'Gap Analysis'!M:M,"Yes")) -> 2 | I40: =IF(D40="",COUNTIFS('Gap Analysis'!C:C,Overview!B40,'Gap Analysis'!D:D,Overview!C40,'Gap Analysis'!E:E,"",'Gap Analysis'!M:M,"Yes", 'Gap Analysis'!N:N,"Yes"),COUNTIFS('Gap Analysis'!C:C,Overview!B40,'Gap Analysis'!D:D,Overview!C40,'Gap Analysis'!E:E,Overview!D40,'Gap Analysis'!M:M,"Yes", 'Gap Analysis'!N:N,"Yes")) -> 0 | J40: =H40-I40 -> 2
A41: 38 | B41: Site standards | C41: Chemical and physical product contamination control: raw material-handling, preparation, processing, packing and storage areas | D41: Glass, brittle plastic, ceramics and similar materials | E41: =IF(D41="",COUNTIFS('Gap Analysis'!C:C,Overview!B41,'Gap Analysis'!D:D,Overview!C41,'Gap Analysis'!E:E,"",'Gap Analysis'!F:F,"Yes"),COUNTIFS('Gap Analysis'!C:C,Overview!B41,'Gap Analysis'!D:D,Overview!C41,'Gap Analysis'!E:E,Overview!D41,'Gap Analysis'!F:F,"Yes")) -> 2 | F41: =IF(D41="",COUNTIFS('Gap Analysis'!C:C,Overview!B41,'Gap Analysis'!D:D,Overview!C41,'Gap Analysis'!E:E,"",'Gap Analysis'!F:F,"Yes", 'Gap Analysis'!G:G,"Yes"),COUNTIFS('Gap Analysis'!C:C,Overview!B41,'Gap Analysis'!D:D,Overview!C41,'Gap Analysis'!E:E,Overview!D41,'Gap Analysis'!F:F,"Yes", 'Gap Analysis'!G:G,"Yes")) -> 0 | G41: =E41-F41 -> 2 | H41: =IF(D41="",COUNTIFS('Gap Analysis'!C:C,Overview!B41,'Gap Analysis'!D:D,Overview!C41,'Gap Analysis'!E:E,"",'Gap Analysis'!M:M,"Yes"),COUNTIFS('Gap Analysis'!C:C,Overview!B41,'Gap Analysis'!D:D,Overview!C41,'Gap Analysis'!E:E,Overview!D41,'Gap Analysis'!M:M,"Yes")) -> 4 | I41: =IF(D41="",COUNTIFS('Gap Analysis'!C:C,Overview!B41,'Gap Analysis'!D:D,Overview!C41,'Gap Analysis'!E:E,"",'Gap Analysis'!M:M,"Yes", 'Gap Analysis'!N:N,"Yes"),COUNTIFS('Gap Analysis'!C:C,Overview!B41,'Gap Analysis'!D:D,Overview!C41,'Gap Analysis'!E:E,Overview!D41,'Gap Analysis'!M:M,"Yes", 'Gap Analysis'!N:N,"Yes")) -> 0 | J41: =H41-I41 -> 4
A42: 39 | B42: Site standards | C42: Chemical and physical product contamination control: raw material-handling, preparation, processing, packing and storage areas | D42: Products packed into glass or other brittle containers | E42: =IF(D42="",COUNTIFS('Gap Analysis'!C:C,Overview!B42,'Gap Analysis'!D:D,Overview!C42,'Gap Analysis'!E:E,"",'Gap Analysis'!F:F,"Yes"),COUNTIFS('Gap Analysis'!C:C,Overview!B42,'Gap Analysis'!D:D,Overview!C42,'Gap Analysis'!E:E,Overview!D42,'Gap Analysis'!F:F,"Yes")) -> 1 | F42: =IF(D42="",COUNTIFS('Gap Analysis'!C:C,Overview!B42,'Gap Analysis'!D:D,Overview!C42,'Gap Analysis'!E:E,"",'Gap Analysis'!F:F,"Yes", 'Gap Analysis'!G:G,"Yes"),COUNTIFS('Gap Analysis'!C:C,Overview!B42,'Gap Analysis'!D:D,Overview!C42,'Gap Analysis'!E:E,Overview!D42,'Gap Analysis'!F:F,"Yes", 'Gap Analysis'!G:G,"Yes")) -> 0 | G42: =E42-F42 -> 1 | H42: =IF(D42="",COUNTIFS('Gap Analysis'!C:C,Overview!B42,'Gap Analysis'!D:D,Overview!C42,'Gap Analysis'!E:E,"",'Gap Analysis'!M:M,"Yes"),COUNTIFS('Gap Analysis'!C:C,Overview!B42,'Gap Analysis'!D:D,Overview!C42,'Gap Analysis'!E:E,Overview!D42,'Gap Analysis'!M:M,"Yes")) -> 3 | I42: =IF(D42="",COUNTIFS('Gap Analysis'!C:C,Overview!B42,'Gap Analysis'!D:D,Overview!C42,'Gap Analysis'!E:E,"",'Gap Analysis'!M:M,"Yes", 'Gap Analysis'!N:N,"Yes"),COUNTIFS('Gap Analysis'!C:C,Overview!B42,'Gap Analysis'!D:D,Overview!C42,'Gap Analysis'!E:E,Overview!D42,'Gap Analysis'!M:M,"Yes", 'Gap Analysis'!N:N,"Yes")) -> 0 | J42: =H42-I42 -> 3
A43: 40 | B43: Site standards | C43: Chemical and physical product contamination control: raw material-handling, preparation, processing, packing and storage areas | D43: Wood | E43: =IF(D43="",COUNTIFS('Gap Analysis'!C:C,Overview!B43,'Gap Analysis'!D:D,Overview!C43,'Gap Analysis'!E:E,"",'Gap Analysis'!F:F,"Yes"),COUNTIFS('Gap Analysis'!C:C,Overview!B43,'Gap Analysis'!D:D,Overview!C43,'Gap Analysis'!E:E,Overview!D43,'Gap Analysis'!F:F,"Yes")) -> 0 | F43: =IF(D43="",COUNTIFS('Gap Analysis'!C:C,Overview!B43,'Gap Analysis'!D:D,Overview!C43,'Gap Analysis'!E:E,"",'Gap Analysis'!F:F,"Yes", 'Gap Analysis'!G:G,"Yes"),COUNTIFS('Gap Analysis'!C:C,Overview!B43,'Gap Analysis'!D:D,Overview!C43,'Gap Analysis'!E:E,Overview!D43,'Gap Analysis'!F:F,"Yes", 'Gap Analysis'!G:G,"Yes")) -> 0 | G43: =E43-F43 -> 0 | H43: =IF(D43="",COUNTIFS('Gap Analysis'!C:C,Overview!B43,'Gap Analysis'!D:D,Overview!C43,'Gap Analysis'!E:E,"",'Gap Analysis'!M:M,"Yes"),COUNTIFS('Gap Analysis'!C:C,Overview!B43,'Gap Analysis'!D:D,Overview!C43,'Gap Analysis'!E:E,Overview!D43,'Gap Analysis'!M:M,"Yes")) -> 1 | I43: =IF(D43="",COUNTIFS('Gap Analysis'!C:C,Overview!B43,'Gap Analysis'!D:D,Overview!C43,'Gap Analysis'!E:E,"",'Gap Analysis'!M:M,"Yes", 'Gap Analysis'!N:N,"Yes"),COUNTIFS('Gap Analysis'!C:C,Overview!B43,'Gap Analysis'!D:D,Overview!C43,'Gap Analysis'!E:E,Overview!D43,'Gap Analysis'!M:M,"Yes", 'Gap Analysis'!N:N,"Yes")) -> 0 | J43: =H43-I43 -> 1
A44: 41 | B44: Site standards | C44: Chemical and physical product contamination control: raw material-handling, preparation, processing, packing and storage areas | D44: Other physical contaminants | E44: =IF(D44="",COUNTIFS('Gap Analysis'!C:C,Overview!B44,'Gap Analysis'!D:D,Overview!C44,'Gap Analysis'!E:E,"",'Gap Analysis'!F:F,"Yes"),COUNTIFS('Gap Analysis'!C:C,Overview!B44,'Gap Analysis'!D:D,Overview!C44,'Gap Analysis'!E:E,Overview!D44,'Gap Analysis'!F:F,"Yes")) -> 3 | F44: =IF(D44="",COUNTIFS('Gap Analysis'!C:C,Overview!B44,'Gap Analysis'!D:D,Overview!C44,'Gap Analysis'!E:E,"",'Gap Analysis'!F:F,"Yes", 'Gap Analysis'!G:G,"Yes"),COUNTIFS('Gap Analysis'!C:C,Overview!B44,'Gap Analysis'!D:D,Overview!C44,'Gap Analysis'!E:E,Overview!D44,'Gap Analysis'!F:F,"Yes", 'Gap Analysis'!G:G,"Yes")) -> 0 | G44: =E44-F44 -> 3 | H44: =IF(D44="",COUNTIFS('Gap Analysis'!C:C,Overview!B44,'Gap Analysis'!D:D,Overview!C44,'Gap Analysis'!E:E,"",'Gap Analysis'!M:M,"Yes"),COUNTIFS('Gap Analysis'!C:C,Overview!B44,'Gap Analysis'!D:D,Overview!C44,'Gap Analysis'!E:E,Overview!D44,'Gap Analysis'!M:M,"Yes")) -> 3 | I44: =IF(D44="",COUNTIFS('Gap Analysis'!C:C,Overview!B44,'Gap Analysis'!D:D,Overview!C44,'Gap Analysis'!E:E,"",'Gap Analysis'!M:M,"Yes", 'Gap Analysis'!N:N,"Yes"),COUNTIFS('Gap Analysis'!C:C,Overview!B44,'Gap Analysis'!D:D,Overview!C44,'Gap Analysis'!E:E,Overview!D44,'Gap Analysis'!M:M,"Yes", 'Gap Analysis'!N:N,"Yes")) -> 0 | J44: =H44-I44 -> 3
A45: 42 | B45: Site standards | C45: External standards and site security | D45: Selection and operation of foreign-body detection and removal equipment | E45: =IF(D45="",COUNTIFS('Gap Analysis'!C:C,Overview!B45,'Gap Analysis'!D:D,Overview!C45,'Gap Analysis'!E:E,"",'Gap Analysis'!F:F,"Yes"),COUNTIFS('Gap Analysis'!C:C,Overview!B45,'Gap Analysis'!D:D,Overview!C45,'Gap Analysis'!E:E,Overview!D45,'Gap Analysis'!F:F,"Yes")) -> 4 | F45: =IF(D45="",COUNTIFS('Gap Analysis'!C:C,Overview!B45,'Gap Analysis'!D:D,Overview!C45,'Gap Analysis'!E:E,"",'Gap Analysis'!F:F,"Yes", 'Gap Analysis'!G:G,"Yes"),COUNTIFS('Gap Analysis'!C:C,Overview!B45,'Gap Analysis'!D:D,Overview!C45,'Gap Analysis'!E:E,Overview!D45,'Gap Analysis'!F:F,"Yes", 'Gap Analysis'!G:G,"Yes")) -> 0 | G45: =E45-F45 -> 4 | H45: =IF(D45="",COUNTIFS('Gap Analysis'!C:C,Overview!B45,'Gap Analysis'!D:D,Overview!C45,'Gap Analysis'!E:E,"",'Gap Analysis'!M:M,"Yes"),COUNTIFS('Gap Analysis'!C:C,Overview!B45,'Gap Analysis'!D:D,Overview!C45,'Gap Analysis'!E:E,Overview!D45,'Gap Analysis'!M:M,"Yes")) -> 2 | I45: =IF(D45="",COUNTIFS('Gap Analysis'!C:C,Overview!B45,'Gap Analysis'!D:D,Overview!C45,'Gap Analysis'!E:E,"",'Gap Analysis'!M:M,"Yes", 'Gap Analysis'!N:N,"Yes"),COUNTIFS('Gap Analysis'!C:C,Overview!B45,'Gap Analysis'!D:D,Overview!C45,'Gap Analysis'!E:E,Overview!D45,'Gap Analysis'!M:M,"Yes", 'Gap Analysis'!N:N,"Yes")) -> 0 | J45: =H45-I45 -> 2
A46: 43 | B46: Site standards | C46: External standards and site security | D46: Filters and sieves | E46: =IF(D46="",COUNTIFS('Gap Analysis'!C:C,Overview!B46,'Gap Analysis'!D:D,Overview!C46,'Gap Analysis'!E:E,"",'Gap Analysis'!F:F,"Yes"),COUNTIFS('Gap Analysis'!C:C,Overview!B46,'Gap Analysis'!D:D,Overview!C46,'Gap Analysis'!E:E,Overview!D46,'Gap Analysis'!F:F,"Yes")) -> 0 | F46: =IF(D46="",COUNTIFS('Gap Analysis'!C:C,Overview!B46,'Gap Analysis'!D:D,Overview!C46,'Gap Analysis'!E:E,"",'Gap Analysis'!F:F,"Yes", 'Gap Analysis'!G:G,"Yes"),COUNTIFS('Gap Analysis'!C:C,Overview!B46,'Gap Analysis'!D:D,Overview!C46,'Gap Analysis'!E:E,Overview!D46,'Gap Analysis'!F:F,"Yes", 'Gap Analysis'!G:G,"Yes")) -> 0 | G46: =E46-F46 -> 0 | H46: =IF(D46="",COUNTIFS('Gap Analysis'!C:C,Overview!B46,'Gap Analysis'!D:D,Overview!C46,'Gap Analysis'!E:E,"",'Gap Analysis'!M:M,"Yes"),COUNTIFS('Gap Analysis'!C:C,Overview!B46,'Gap Analysis'!D:D,Overview!C46,'Gap Analysis'!E:E,Overview!D46,'Gap Analysis'!M:M,"Yes")) -> 2 | I46: =IF(D46="",COUNTIFS('Gap Analysis'!C:C,Overview!B46,'Gap Analysis'!D:D,Overview!C46,'Gap Analysis'!E:E,"",'Gap Analysis'!M:M,"Yes", 'Gap Analysis'!N:N,"Yes"),COUNTIFS('Gap Analysis'!C:C,Overview!B46,'Gap Analysis'!D:D,Overview!C46,'Gap Analysis'!E:E,Overview!D46,'Gap Analysis'!M:M,"Yes", 'Gap Analysis'!N:N,"Yes")) -> 0 | J46: =H46-I46 -> 2
A47: 44 | B47: Site standards | C47: External standards and site security | D47: Metal detectors and X-ray equipment | E47: =IF(D47="",COUNTIFS('Gap Analysis'!C:C,Overview!B47,'Gap Analysis'!D:D,Overview!C47,'Gap Analysis'!E:E,"",'Gap Analysis'!F:F,"Yes"),COUNTIFS('Gap Analysis'!C:C,Overview!B47,'Gap Analysis'!D:D,Overview!C47,'Gap Analysis'!E:E,Overview!D47,'Gap Analysis'!F:F,"Yes")) -> 0 | F47: =IF(D47="",COUNTIFS('Gap Analysis'!C:C,Overview!B47,'Gap Analysis'!D:D,Overview!C47,'Gap Analysis'!E:E,"",'Gap Analysis'!F:F,"Yes", 'Gap Analysis'!G:G,"Yes"),COUNTIFS('Gap Analysis'!C:C,Overview!B47,'Gap Analysis'!D:D,Overview!C47,'Gap Analysis'!E:E,Overview!D47,'Gap Analysis'!F:F,"Yes", 'Gap Analysis'!G:G,"Yes")) -> 0 | G47: =E47-F47 -> 0 | H47: =IF(D47="",COUNTIFS('Gap Analysis'!C:C,Overview!B47,'Gap Analysis'!D:D,Overview!C47,'Gap Analysis'!E:E,"",'Gap Analysis'!M:M,"Yes"),COUNTIFS('Gap Analysis'!C:C,Overview!B47,'Gap Analysis'!D:D,Overview!C47,'Gap Analysis'!E:E,Overview!D47,'Gap Analysis'!M:M,"Yes")) -> 5 | I47: =IF(D47="",COUNTIFS('Gap Analysis'!C:C,Overview!B47,'Gap Analysis'!D:D,Overview!C47,'Gap Analysis'!E:E,"",'Gap Analysis'!M:M,"Yes", 'Gap Analysis'!N:N,"Yes"),COUNTIFS('Gap Analysis'!C:C,Overview!B47,'Gap Analysis'!D:D,Overview!C47,'Gap Analysis'!E:E,Overview!D47,'Gap Analysis'!M:M,"Yes", 'Gap Analysis'!N:N,"Yes")) -> 0 | J47: =H47-I47 -> 5
A48: 45 | B48: Site standards | C48: External standards and site security | D48: Magnets | E48: =IF(D48="",COUNTIFS('Gap Analysis'!C:C,Overview!B48,'Gap Analysis'!D:D,Overview!C48,'Gap Analysis'!E:E,"",'Gap Analysis'!F:F,"Yes"),COUNTIFS('Gap Analysis'!C:C,Overview!B48,'Gap Analysis'!D:D,Overview!C48,'Gap Analysis'!E:E,Overview!D48,'Gap Analysis'!F:F,"Yes")) -> 1 | F48: =IF(D48="",COUNTIFS('Gap Analysis'!C:C,Overview!B48,'Gap Analysis'!D:D,Overview!C48,'Gap Analysis'!E:E,"",'Gap Analysis'!F:F,"Yes", 'Gap Analysis'!G:G,"Yes"),COUNTIFS('Gap Analysis'!C:C,Overview!B48,'Gap Analysis'!D:D,Overview!C48,'Gap Analysis'!E:E,Overview!D48,'Gap Analysis'!F:F,"Yes", 'Gap Analysis'!G:G,"Yes")) -> 0 | G48: =E48-F48 -> 1 | H48: =IF(D48="",COUNTIFS('Gap Analysis'!C:C,Overview!B48,'Gap Analysis'!D:D,Overview!C48,'Gap Analysis'!E:E,"",'Gap Analysis'!M:M,"Yes"),COUNTIFS('Gap Analysis'!C:C,Overview!B48,'Gap Analysis'!D:D,Overview!C48,'Gap Analysis'!E:E,Overview!D48,'Gap Analysis'!M:M,"Yes")) -> 1 | I48: =IF(D48="",COUNTIFS('Gap Analysis'!C:C,Overview!B48,'Gap Analysis'!D:D,Overview!C48,'Gap Analysis'!E:E,"",'Gap Analysis'!M:M,"Yes", 'Gap Analysis'!N:N,"Yes"),COUNTIFS('Gap Analysis'!C:C,Overview!B48,'Gap Analysis'!D:D,Overview!C48,'Gap Analysis'!E:E,Overview!D48,'Gap Analysis'!M:M,"Yes", 'Gap Analysis'!N:N,"Yes")) -> 0 | J48: =H48-I48 -> 1
A49: 46 | B49: Site standards | C49: External standards and site security | D49: Optical sorting equipment | E49: =IF(D49="",COUNTIFS('Gap Analysis'!C:C,Overview!B49,'Gap Analysis'!D:D,Overview!C49,'Gap Analysis'!E:E,"",'Gap Analysis'!F:F,"Yes"),COUNTIFS('Gap Analysis'!C:C,Overview!B49,'Gap Analysis'!D:D,Overview!C49,'Gap Analysis'!E:E,Overview!D49,'Gap Analysis'!F:F,"Yes")) -> 0 | F49: =IF(D49="",COUNTIFS('Gap Analysis'!C:C,Overview!B49,'Gap Analysis'!D:D,Overview!C49,'Gap Analysis'!E:E,"",'Gap Analysis'!F:F,"Yes", 'Gap Analysis'!G:G,"Yes"),COUNTIFS('Gap Analysis'!C:C,Overview!B49,'Gap Analysis'!D:D,Overview!C49,'Gap Analysis'!E:E,Overview!D49,'Gap Analysis'!F:F,"Yes", 'Gap Analysis'!G:G,"Yes")) -> 0 | G49: =E49-F49 -> 0 | H49: =IF(D49="",COUNTIFS('Gap Analysis'!C:C,Overview!B49,'Gap Analysis'!D:D,Overview!C49,'Gap Analysis'!E:E,"",'Gap Analysis'!M:M,"Yes"),COUNTIFS('Gap Analysis'!C:C,Overview!B49,'Gap Analysis'!D:D,Overview!C49,'Gap Analysis'!E:E,Overview!D49,'Gap Analysis'!M:M,"Yes")) -> 1 | I49: =IF(D49="",COUNTIFS('Gap Analysis'!C:C,Overview!B49,'Gap Analysis'!D:D,Overview!C49,'Gap Analysis'!E:E,"",'Gap Analysis'!M:M,"Yes", 'Gap Analysis'!N:N,"Yes"),COUNTIFS('Gap Analysis'!C:C,Overview!B49,'Gap Analysis'!D:D,Overview!C49,'Gap Analysis'!E:E,Overview!D49,'Gap Analysis'!M:M,"Yes", 'Gap Analysis'!N:N,"Yes")) -> 0 | J49: =H49-I49 -> 1
A50: 47 | B50: Site standards | C50: External standards and site security | D50: Container cleanliness – glass jars, cans and other rigid containers | E50: =IF(D50="",COUNTIFS('Gap Analysis'!C:C,Overview!B50,'Gap Analysis'!D:D,Overview!C50,'Gap Analysis'!E:E,"",'Gap Analysis'!F:F,"Yes"),COUNTIFS('Gap Analysis'!C:C,Overview!B50,'Gap Analysis'!D:D,Overview!C50,'Gap Analysis'!E:E,Overview!D50,'Gap Analysis'!F:F,"Yes")) -> 0 | F50: =IF(D50="",COUNTIFS('Gap Analysis'!C:C,Overview!B50,'Gap Analysis'!D:D,Overview!C50,'Gap Analysis'!E:E,"",'Gap Analysis'!F:F,"Yes", 'Gap Analysis'!G:G,"Yes"),COUNTIFS('Gap Analysis'!C:C,Overview!B50,'Gap Analysis'!D:D,Overview!C50,'Gap Analysis'!E:E,Overview!D50,'Gap Analysis'!F:F,"Yes", 'Gap Analysis'!G:G,"Yes")) -> 0 | G50: =E50-F50 -> 0 | H50: =IF(D50="",COUNTIFS('Gap Analysis'!C:C,Overview!B50,'Gap Analysis'!D:D,Overview!C50,'Gap Analysis'!E:E,"",'Gap Analysis'!M:M,"Yes"),COUNTIFS('Gap Analysis'!C:C,Overview!B50,'Gap Analysis'!D:D,Overview!C50,'Gap Analysis'!E:E,Overview!D50,'Gap Analysis'!M:M,"Yes")) -> 2 | I50: =IF(D50="",COUNTIFS('Gap Analysis'!C:C,Overview!B50,'Gap Analysis'!D:D,Overview!C50,'Gap Analysis'!E:E,"",'Gap Analysis'!M:M,"Yes", 'Gap Analysis'!N:N,"Yes"),COUNTIFS('Gap Analysis'!C:C,Overview!B50,'Gap Analysis'!D:D,Overview!C50,'Gap Analysis'!E:E,Overview!D50,'Gap Analysis'!M:M,"Yes", 'Gap Analysis'!N:N,"Yes")) -> 0 | J50: =H50-I50 -> 2
A51: 48 | B51: Site standards | C51: External standards and site security | D51: Other foreign-body detection and removal equipment | E51: =IF(D51="",COUNTIFS('Gap Analysis'!C:C,Overview!B51,'Gap Analysis'!D:D,Overview!C51,'Gap Analysis'!E:E,"",'Gap Analysis'!F:F,"Yes"),COUNTIFS('Gap Analysis'!C:C,Overview!B51,'Gap Analysis'!D:D,Overview!C51,'Gap Analysis'!E:E,Overview!D51,'Gap Analysis'!F:F,"Yes")) -> 1 | F51: =IF(D51="",COUNTIFS('Gap Analysis'!C:C,Overview!B51,'Gap Analysis'!D:D,Overview!C51,'Gap Analysis'!E:E,"",'Gap Analysis'!F:F,"Yes", 'Gap Analysis'!G:G,"Yes"),COUNTIFS('Gap Analysis'!C:C,Overview!B51,'Gap Analysis'!D:D,Overview!C51,'Gap Analysis'!E:E,Overview!D51,'Gap Analysis'!F:F,"Yes", 'Gap Analysis'!G:G,"Yes")) -> 0 | G51: =E51-F51 -> 1 | H51: =IF(D51="",COUNTIFS('Gap Analysis'!C:C,Overview!B51,'Gap Analysis'!D:D,Overview!C51,'Gap Analysis'!E:E,"",'Gap Analysis'!M:M,"Yes"),COUNTIFS('Gap Analysis'!C:C,Overview!B51,'Gap Analysis'!D:D,Overview!C51,'Gap Analysis'!E:E,Overview!D51,'Gap Analysis'!M:M,"Yes")) -> 1 | I51: =IF(D51="",COUNTIFS('Gap Analysis'!C:C,Overview!B51,'Gap Analysis'!D:D,Overview!C51,'Gap Analysis'!E:E,"",'Gap Analysis'!M:M,"Yes", 'Gap Analysis'!N:N,"Yes"),COUNTIFS('Gap Analysis'!C:C,Overview!B51,'Gap Analysis'!D:D,Overview!C51,'Gap Analysis'!E:E,Overview!D51,'Gap Analysis'!M:M,"Yes", 'Gap Analysis'!N:N,"Yes")) -> 0 | J51: =H51-I51 -> 1
A52: 49 | B52: Site standards | C52: Housekeeping and hygiene | E52: =IF(D52="",COUNTIFS('Gap Analysis'!C:C,Overview!B52,'Gap Analysis'!D:D,Overview!C52,'Gap Analysis'!E:E,"",'Gap Analysis'!F:F,"Yes"),COUNTIFS('Gap Analysis'!C:C,Overview!B52,'Gap Analysis'!D:D,Overview!C52,'Gap Analysis'!E:E,Overview!D52,'Gap Analysis'!F:F,"Yes")) -> 2 | F52: =IF(D52="",COUNTIFS('Gap Analysis'!C:C,Overview!B52,'Gap Analysis'!D:D,Overview!C52,'Gap Analysis'!E:E,"",'Gap Analysis'!F:F,"Yes", 'Gap Analysis'!G:G,"Yes"),COUNTIFS('Gap Analysis'!C:C,Overview!B52,'Gap Analysis'!D:D,Overview!C52,'Gap Analysis'!E:E,Overview!D52,'Gap Analysis'!F:F,"Yes", 'Gap Analysis'!G:G,"Yes")) -> 0 | G52: =E52-F52 -> 2 | H52: =IF(D52="",COUNTIFS('Gap Analysis'!C:C,Overview!B52,'Gap Analysis'!D:D,Overview!C52,'Gap Analysis'!E:E,"",'Gap Analysis'!M:M,"Yes"),COUNTIFS('Gap Analysis'!C:C,Overview!B52,'Gap Analysis'!D:D,Overview!C52,'Gap Analysis'!E:E,Overview!D52,'Gap Analysis'!M:M,"Yes")) -> 5 | I52: =IF(D52="",COUNTIFS('Gap Analysis'!C:C,Overview!B52,'Gap Analysis'!D:D,Overview!C52,'Gap Analysis'!E:E,"",'Gap Analysis'!M:M,"Yes", 'Gap Analysis'!N:N,"Yes"),COUNTIFS('Gap Analysis'!C:C,Overview!B52,'Gap Analysis'!D:D,Overview!C52,'Gap Analysis'!E:E,Overview!D52,'Gap Analysis'!M:M,"Yes", 'Gap Analysis'!N:N,"Yes")) -> 0 | J52: =H52-I52 -> 5
A53: 50 | B53: Site standards | C53: Housekeeping and hygiene | D53: Cleaning in place (CIP) | E53: =IF(D53="",COUNTIFS('Gap Analysis'!C:C,Overview!B53,'Gap Analysis'!D:D,Overview!C53,'Gap Analysis'!E:E,"",'Gap Analysis'!F:F,"Yes"),COUNTIFS('Gap Analysis'!C:C,Overview!B53,'Gap Analysis'!D:D,Overview!C53,'Gap Analysis'!E:E,Overview!D53,'Gap Analysis'!F:F,"Yes")) -> 1 | F53: =IF(D53="",COUNTIFS('Gap Analysis'!C:C,Overview!B53,'Gap Analysis'!D:D,Overview!C53,'Gap Analysis'!E:E,"",'Gap Analysis'!F:F,"Yes", 'Gap Analysis'!G:G,"Yes"),COUNTIFS('Gap Analysis'!C:C,Overview!B53,'Gap Analysis'!D:D,Overview!C53,'Gap Analysis'!E:E,Overview!D53,'Gap Analysis'!F:F,"Yes", 'Gap Analysis'!G:G,"Yes")) -> 0 | G53: =E53-F53 -> 1 | H53: =IF(D53="",COUNTIFS('Gap Analysis'!C:C,Overview!B53,'Gap Analysis'!D:D,Overview!C53,'Gap Analysis'!E:E,"",'Gap Analysis'!M:M,"Yes"),COUNTIFS('Gap Analysis'!C:C,Overview!B53,'Gap Analysis'!D:D,Overview!C53,'Gap Analysis'!E:E,Overview!D53,'Gap Analysis'!M:M,"Yes")) -> 3 | I53: =IF(D53="",COUNTIFS('Gap Analysis'!C:C,Overview!B53,'Gap Analysis'!D:D,Overview!C53,'Gap Analysis'!E:E,"",'Gap Analysis'!M:M,"Yes", 'Gap Analysis'!N:N,"Yes"),COUNTIFS('Gap Analysis'!C:C,Overview!B53,'Gap Analysis'!D:D,Overview!C53,'Gap Analysis'!E:E,Overview!D53,'Gap Analysis'!M:M,"Yes", 'Gap Analysis'!N:N,"Yes")) -> 0 | J53: =H53-I53 -> 3
A54: 51 | B54: Site standards | C54: Housekeeping and hygiene | D54: Environmental monitoring | E54: =IF(D54="",COUNTIFS('Gap Analysis'!C:C,Overview!B54,'Gap Analysis'!D:D,Overview!C54,'Gap Analysis'!E:E,"",'Gap Analysis'!F:F,"Yes"),COUNTIFS('Gap Analysis'!C:C,Overview!B54,'Gap Analysis'!D:D,Overview!C54,'Gap Analysis'!E:E,Overview!D54,'Gap Analysis'!F:F,"Yes")) -> 3 | F54: =IF(D54="",COUNTIFS('Gap Analysis'!C:C,Overview!B54,'Gap Analysis'!D:D,Overview!C54,'Gap Analysis'!E:E,"",'Gap Analysis'!F:F,"Yes", 'Gap Analysis'!G:G,"Yes"),COUNTIFS('Gap Analysis'!C:C,Overview!B54,'Gap Analysis'!D:D,Overview!C54,'Gap Analysis'!E:E,Overview!D54,'Gap Analysis'!F:F,"Yes", 'Gap Analysis'!G:G,"Yes")) -> 0 | G54: =E54-F54 -> 3 | H54: =IF(D54="",COUNTIFS('Gap Analysis'!C:C,Overview!B54,'Gap Analysis'!D:D,Overview!C54,'Gap Analysis'!E:E,"",'Gap Analysis'!M:M,"Yes"),COUNTIFS('Gap Analysis'!C:C,Overview!B54,'Gap Analysis'!D:D,Overview!C54,'Gap Analysis'!E:E,Overview!D54,'Gap Analysis'!M:M,"Yes")) -> 2 | I54: =IF(D54="",COUNTIFS('Gap Analysis'!C:C,Overview!B54,'Gap Analysis'!D:D,Overview!C54,'Gap Analysis'!E:E,"",'Gap Analysis'!M:M,"Yes", 'Gap Analysis'!N:N,"Yes"),COUNTIFS('Gap Analysis'!C:C,Overview!B54,'Gap Analysis'!D:D,Overview!C54,'Gap Analysis'!E:E,Overview!D54,'Gap Analysis'!M:M,"Yes", 'Gap Analysis'!N:N,"Yes")) -> 0 | J54: =H54-I54 -> 2
A55: 52 | B55: Site standards | C55: Waste and waste disposal | E55: =IF(D55="",COUNTIFS('Gap Analysis'!C:C,Overview!B55,'Gap Analysis'!D:D,Overview!C55,'Gap Analysis'!E:E,"",'Gap Analysis'!F:F,"Yes"),COUNTIFS('Gap Analysis'!C:C,Overview!B55,'Gap Analysis'!D:D,Overview!C55,'Gap Analysis'!E:E,Overview!D55,'Gap Analysis'!F:F,"Yes")) -> 2 | F55: =IF(D55="",COUNTIFS('Gap Analysis'!C:C,Overview!B55,'Gap Analysis'!D:D,Overview!C55,'Gap Analysis'!E:E,"",'Gap Analysis'!F:F,"Yes", 'Gap Analysis'!G:G,"Yes"),COUNTIFS('Gap Analysis'!C:C,Overview!B55,'Gap Analysis'!D:D,Overview!C55,'Gap Analysis'!E:E,Overview!D55,'Gap Analysis'!F:F,"Yes", 'Gap Analysis'!G:G,"Yes")) -> 0 | G55: =E55-F55 -> 2 | H55: =IF(D55="",COUNTIFS('Gap Analysis'!C:C,Overview!B55,'Gap Analysis'!D:D,Overview!C55,'Gap Analysis'!E:E,"",'Gap Analysis'!M:M,"Yes"),COUNTIFS('Gap Analysis'!C:C,Overview!B55,'Gap Analysis'!D:D,Overview!C55,'Gap Analysis'!E:E,Overview!D55,'Gap Analysis'!M:M,"Yes")) -> 2 | I55: =IF(D55="",COUNTIFS('Gap Analysis'!C:C,Overview!B55,'Gap Analysis'!D:D,Overview!C55,'Gap Analysis'!E:E,"",'Gap Analysis'!M:M,"Yes", 'Gap Analysis'!N:N,"Yes"),COUNTIFS('Gap Analysis'!C:C,Overview!B55,'Gap Analysis'!D:D,Overview!C55,'Gap Analysis'!E:E,Overview!D55,'Gap Analysis'!M:M,"Yes", 'Gap Analysis'!N:N,"Yes")) -> 0 | J55: =H55-I55 -> 2
A56: 53 | B56: Site standards | C56: Management of surplus food and products for animal feed | E56: =IF(D56="",COUNTIFS('Gap Analysis'!C:C,Overview!B56,'Gap Analysis'!D:D,Overview!C56,'Gap Analysis'!E:E,"",'Gap Analysis'!F:F,"Yes"),COUNTIFS('Gap Analysis'!C:C,Overview!B56,'Gap Analysis'!D:D,Overview!C56,'Gap Analysis'!E:E,Overview!D56,'Gap Analysis'!F:F,"Yes")) -> 1 | F56: =IF(D56="",COUNTIFS('Gap Analysis'!C:C,Overview!B56,'Gap Analysis'!D:D,Overview!C56,'Gap Analysis'!E:E,"",'Gap Analysis'!F:F,"Yes", 'Gap Analysis'!G:G,"Yes"),COUNTIFS('Gap Analysis'!C:C,Overview!B56,'Gap Analysis'!D:D,Overview!C56,'Gap Analysis'!E:E,Overview!D56,'Gap Analysis'!F:F,"Yes", 'Gap Analysis'!G:G,"Yes")) -> 0 | G56: =E56-F56 -> 1 | H56: =IF(D56="",COUNTIFS('Gap Analysis'!C:C,Overview!B56,'Gap Analysis'!D:D,Overview!C56,'Gap Analysis'!E:E,"",'Gap Analysis'!M:M,"Yes"),COUNTIFS('Gap Analysis'!C:C,Overview!B56,'Gap Analysis'!D:D,Overview!C56,'Gap Analysis'!E:E,Overview!D56,'Gap Analysis'!M:M,"Yes")) -> 2 | I56: =IF(D56="",COUNTIFS('Gap Analysis'!C:C,Overview!B56,'Gap Analysis'!D:D,Overview!C56,'Gap Analysis'!E:E,"",'Gap Analysis'!M:M,"Yes", 'Gap Analysis'!N:N,"Yes"),COUNTIFS('Gap Analysis'!C:C,Overview!B56,'Gap Analysis'!D:D,Overview!C56,'Gap Analysis'!E:E,Overview!D56,'Gap Analysis'!M:M,"Yes", 'Gap Analysis'!N:N,"Yes")) -> 0 | J56: =H56-I56 -> 2
A57: 54 | B57: Site standards | C57: Pest management | E57: =IF(D57="",COUNTIFS('Gap Analysis'!C:C,Overview!B57,'Gap Analysis'!D:D,Overview!C57,'Gap Analysis'!E:E,"",'Gap Analysis'!F:F,"Yes"),COUNTIFS('Gap Analysis'!C:C,Overview!B57,'Gap Analysis'!D:D,Overview!C57,'Gap Analysis'!E:E,Overview!D57,'Gap Analysis'!F:F,"Yes")) -> 2 | F57: =IF(D57="",COUNTIFS('Gap Analysis'!C:C,Overview!B57,'Gap Analysis'!D:D,Overview!C57,'Gap Analysis'!E:E,"",'Gap Analysis'!F:F,"Yes", 'Gap Analysis'!G:G,"Yes"),COUNTIFS('Gap Analysis'!C:C,Overview!B57,'Gap Analysis'!D:D,Overview!C57,'Gap Analysis'!E:E,Overview!D57,'Gap Analysis'!F:F,"Yes", 'Gap Analysis'!G:G,"Yes")) -> 0 | G57: =E57-F57 -> 2 | H57: =IF(D57="",COUNTIFS('Gap Analysis'!C:C,Overview!B57,'Gap Analysis'!D:D,Overview!C57,'Gap Analysis'!E:E,"",'Gap Analysis'!M:M,"Yes"),COUNTIFS('Gap Analysis'!C:C,Overview!B57,'Gap Analysis'!D:D,Overview!C57,'Gap Analysis'!E:E,Overview!D57,'Gap Analysis'!M:M,"Yes")) -> 12 | I57: =IF(D57="",COUNTIFS('Gap Analysis'!C:C,Overview!B57,'Gap Analysis'!D:D,Overview!C57,'Gap Analysis'!E:E,"",'Gap Analysis'!M:M,"Yes", 'Gap Analysis'!N:N,"Yes"),COUNTIFS('Gap Analysis'!C:C,Overview!B57,'Gap Analysis'!D:D,Overview!C57,'Gap Analysis'!E:E,Overview!D57,'Gap Analysis'!M:M,"Yes", 'Gap Analysis'!N:N,"Yes")) -> 0 | J57: =H57-I57 -> 12
A58: 55 | B58: Site standards | C58: Storage facilities | E58: =IF(D58="",COUNTIFS('Gap Analysis'!C:C,Overview!B58,'Gap Analysis'!D:D,Overview!C58,'Gap Analysis'!E:E,"",'Gap Analysis'!F:F,"Yes"),COUNTIFS('Gap Analysis'!C:C,Overview!B58,'Gap Analysis'!D:D,Overview!C58,'Gap Analysis'!E:E,Overview!D58,'Gap Analysis'!F:F,"Yes")) -> 0 | F58: =IF(D58="",COUNTIFS('Gap Analysis'!C:C,Overview!B58,'Gap Analysis'!D:D,Overview!C58,'Gap Analysis'!E:E,"",'Gap Analysis'!F:F,"Yes", 'Gap Analysis'!G:G,"Yes"),COUNTIFS('Gap Analysis'!C:C,Overview!B58,'Gap Analysis'!D:D,Overview!C58,'Gap Analysis'!E:E,Overview!D58,'Gap Analysis'!F:F,"Yes", 'Gap Analysis'!G:G,"Yes")) -> 0 | G58: =E58-F58 -> 0 | H58: =IF(D58="",COUNTIFS('Gap Analysis'!C:C,Overview!B58,'Gap Analysis'!D:D,Overview!C58,'Gap Analysis'!E:E,"",'Gap Analysis'!M:M,"Yes"),COUNTIFS('Gap Analysis'!C:C,Overview!B58,'Gap Analysis'!D:D,Overview!C58,'Gap Analysis'!E:E,Overview!D58,'Gap Analysis'!M:M,"Yes")) -> 6 | I58: =IF(D58="",COUNTIFS('Gap Analysis'!C:C,Overview!B58,'Gap Analysis'!D:D,Overview!C58,'Gap Analysis'!E:E,"",'Gap Analysis'!M:M,"Yes", 'Gap Analysis'!N:N,"Yes"),COUNTIFS('Gap Analysis'!C:C,Overview!B58,'Gap Analysis'!D:D,Overview!C58,'Gap Analysis'!E:E,Overview!D58,'Gap Analysis'!M:M,"Yes", 'Gap Analysis'!N:N,"Yes")) -> 0 | J58: =H58-I58 -> 6
A59: 56 | B59: Site standards | C59: Dispatch and transport | E59: =IF(D59="",COUNTIFS('Gap Analysis'!C:C,Overview!B59,'Gap Analysis'!D:D,Overview!C59,'Gap Analysis'!E:E,"",'Gap Analysis'!F:F,"Yes"),COUNTIFS('Gap Analysis'!C:C,Overview!B59,'Gap Analysis'!D:D,Overview!C59,'Gap Analysis'!E:E,Overview!D59,'Gap Analysis'!F:F,"Yes")) -> 2 | F59: =IF(D59="",COUNTIFS('Gap Analysis'!C:C,Overview!B59,'Gap Analysis'!D:D,Overview!C59,'Gap Analysis'!E:E,"",'Gap Analysis'!F:F,"Yes", 'Gap Analysis'!G:G,"Yes"),COUNTIFS('Gap Analysis'!C:C,Overview!B59,'Gap Analysis'!D:D,Overview!C59,'Gap Analysis'!E:E,Overview!D59,'Gap Analysis'!F:F,"Yes", 'Gap Analysis'!G:G,"Yes")) -> 0 | G59: =E59-F59 -> 2 | H59: =IF(D59="",COUNTIFS('Gap Analysis'!C:C,Overview!B59,'Gap Analysis'!D:D,Overview!C59,'Gap Analysis'!E:E,"",'Gap Analysis'!M:M,"Yes"),COUNTIFS('Gap Analysis'!C:C,Overview!B59,'Gap Analysis'!D:D,Overview!C59,'Gap Analysis'!E:E,Overview!D59,'Gap Analysis'!M:M,"Yes")) -> 4 | I59: =IF(D59="",COUNTIFS('Gap Analysis'!C:C,Overview!B59,'Gap Analysis'!D:D,Overview!C59,'Gap Analysis'!E:E,"",'Gap Analysis'!M:M,"Yes", 'Gap Analysis'!N:N,"Yes"),COUNTIFS('Gap Analysis'!C:C,Overview!B59,'Gap Analysis'!D:D,Overview!C59,'Gap Analysis'!E:E,Overview!D59,'Gap Analysis'!M:M,"Yes", 'Gap Analysis'!N:N,"Yes")) -> 0 | J59: =H59-I59 -> 4
A60: 57 | B60: Product control | C60: Product design/development | E60: =IF(D60="",COUNTIFS('Gap Analysis'!C:C,Overview!B60,'Gap Analysis'!D:D,Overview!C60,'Gap Analysis'!E:E,"",'Gap Analysis'!F:F,"Yes"),COUNTIFS('Gap Analysis'!C:C,Overview!B60,'Gap Analysis'!D:D,Overview!C60,'Gap Analysis'!E:E,Overview!D60,'Gap Analysis'!F:F,"Yes")) -> 4 | F60: =IF(D60="",COUNTIFS('Gap Analysis'!C:C,Overview!B60,'Gap Analysis'!D:D,Overview!C60,'Gap Analysis'!E:E,"",'Gap Analysis'!F:F,"Yes", 'Gap Analysis'!G:G,"Yes"),COUNTIFS('Gap Analysis'!C:C,Overview!B60,'Gap Analysis'!D:D,Overview!C60,'Gap Analysis'!E:E,Overview!D60,'Gap Analysis'!F:F,"Yes", 'Gap Analysis'!G:G,"Yes")) -> 0 | G60: =E60-F60 -> 4 | H60: =IF(D60="",COUNTIFS('Gap Analysis'!C:C,Overview!B60,'Gap Analysis'!D:D,Overview!C60,'Gap Analysis'!E:E,"",'Gap Analysis'!M:M,"Yes"),COUNTIFS('Gap Analysis'!C:C,Overview!B60,'Gap Analysis'!D:D,Overview!C60,'Gap Analysis'!E:E,Overview!D60,'Gap Analysis'!M:M,"Yes")) -> 1 | I60: =IF(D60="",COUNTIFS('Gap Analysis'!C:C,Overview!B60,'Gap Analysis'!D:D,Overview!C60,'Gap Analysis'!E:E,"",'Gap Analysis'!M:M,"Yes", 'Gap Analysis'!N:N,"Yes"),COUNTIFS('Gap Analysis'!C:C,Overview!B60,'Gap Analysis'!D:D,Overview!C60,'Gap Analysis'!E:E,Overview!D60,'Gap Analysis'!M:M,"Yes", 'Gap Analysis'!N:N,"Yes")) -> 0 | J60: =H60-I60 -> 1
A61: 58 | B61: Product control | C61: Product labelling | E61: =IF(D61="",COUNTIFS('Gap Analysis'!C:C,Overview!B61,'Gap Analysis'!D:D,Overview!C61,'Gap Analysis'!E:E,"",'Gap Analysis'!F:F,"Yes"),COUNTIFS('Gap Analysis'!C:C,Overview!B61,'Gap Analysis'!D:D,Overview!C61,'Gap Analysis'!E:E,Overview!D61,'Gap Analysis'!F:F,"Yes")) -> 4 | F61: =IF(D61="",COUNTIFS('Gap Analysis'!C:C,Overview!B61,'Gap Analysis'!D:D,Overview!C61,'Gap Analysis'!E:E,"",'Gap Analysis'!F:F,"Yes", 'Gap Analysis'!G:G,"Yes"),COUNTIFS('Gap Analysis'!C:C,Overview!B61,'Gap Analysis'!D:D,Overview!C61,'Gap Analysis'!E:E,Overview!D61,'Gap Analysis'!F:F,"Yes", 'Gap Analysis'!G:G,"Yes")) -> 0 | G61: =E61-F61 -> 4 | H61: =IF(D61="",COUNTIFS('Gap Analysis'!C:C,Overview!B61,'Gap Analysis'!D:D,Overview!C61,'Gap Analysis'!E:E,"",'Gap Analysis'!M:M,"Yes"),COUNTIFS('Gap Analysis'!C:C,Overview!B61,'Gap Analysis'!D:D,Overview!C61,'Gap Analysis'!E:E,Overview!D61,'Gap Analysis'!M:M,"Yes")) -> 0 | I61: =IF(D61="",COUNTIFS('Gap Analysis'!C:C,Overview!B61,'Gap Analysis'!D:D,Overview!C61,'Gap Analysis'!E:E,"",'Gap Analysis'!M:M,"Yes", 'Gap Analysis'!N:N,"Yes"),COUNTIFS('Gap Analysis'!C:C,Overview!B61,'Gap Analysis'!D:D,Overview!C61,'Gap Analysis'!E:E,Overview!D61,'Gap Analysis'!M:M,"Yes", 'Gap Analysis'!N:N,"Yes")) -> 0 | J61: =H61-I61 -> 0
A62: 59 | B62: Product control | C62: Management of allergens | E62: =IF(D62="",COUNTIFS('Gap Analysis'!C:C,Overview!B62,'Gap Analysis'!D:D,Overview!C62,'Gap Analysis'!E:E,"",'Gap Analysis'!F:F,"Yes"),COUNTIFS('Gap Analysis'!C:C,Overview!B62,'Gap Analysis'!D:D,Overview!C62,'Gap Analysis'!E:E,Overview!D62,'Gap Analysis'!F:F,"Yes")) -> 8 | F62: =IF(D62="",COUNTIFS('Gap Analysis'!C:C,Overview!B62,'Gap Analysis'!D:D,Overview!C62,'Gap Analysis'!E:E,"",'Gap Analysis'!F:F,"Yes", 'Gap Analysis'!G:G,"Yes"),COUNTIFS('Gap Analysis'!C:C,Overview!B62,'Gap Analysis'!D:D,Overview!C62,'Gap Analysis'!E:E,Overview!D62,'Gap Analysis'!F:F,"Yes", 'Gap Analysis'!G:G,"Yes")) -> 0 | G62: =E62-F62 -> 8 | H62: =IF(D62="",COUNTIFS('Gap Analysis'!C:C,Overview!B62,'Gap Analysis'!D:D,Overview!C62,'Gap Analysis'!E:E,"",'Gap Analysis'!M:M,"Yes"),COUNTIFS('Gap Analysis'!C:C,Overview!B62,'Gap Analysis'!D:D,Overview!C62,'Gap Analysis'!E:E,Overview!D62,'Gap Analysis'!M:M,"Yes")) -> 3 | I62: =IF(D62="",COUNTIFS('Gap Analysis'!C:C,Overview!B62,'Gap Analysis'!D:D,Overview!C62,'Gap Analysis'!E:E,"",'Gap Analysis'!M:M,"Yes", 'Gap Analysis'!N:N,"Yes"),COUNTIFS('Gap Analysis'!C:C,Overview!B62,'Gap Analysis'!D:D,Overview!C62,'Gap Analysis'!E:E,Overview!D62,'Gap Analysis'!M:M,"Yes", 'Gap Analysis'!N:N,"Yes")) -> 0 | J62: =H62-I62 -> 3
A63: 60 | B63: Product control | C63: Product authenticity, claims and chain of custody | E63: =IF(D63="",COUNTIFS('Gap Analysis'!C:C,Overview!B63,'Gap Analysis'!D:D,Overview!C63,'Gap Analysis'!E:E,"",'Gap Analysis'!F:F,"Yes"),COUNTIFS('Gap Analysis'!C:C,Overview!B63,'Gap Analysis'!D:D,Overview!C63,'Gap Analysis'!E:E,Overview!D63,'Gap Analysis'!F:F,"Yes")) -> 6 | F63: =IF(D63="",COUNTIFS('Gap Analysis'!C:C,Overview!B63,'Gap Analysis'!D:D,Overview!C63,'Gap Analysis'!E:E,"",'Gap Analysis'!F:F,"Yes", 'Gap Analysis'!G:G,"Yes"),COUNTIFS('Gap Analysis'!C:C,Overview!B63,'Gap Analysis'!D:D,Overview!C63,'Gap Analysis'!E:E,Overview!D63,'Gap Analysis'!F:F,"Yes", 'Gap Analysis'!G:G,"Yes")) -> 0 | G63: =E63-F63 -> 6 | H63: =IF(D63="",COUNTIFS('Gap Analysis'!C:C,Overview!B63,'Gap Analysis'!D:D,Overview!C63,'Gap Analysis'!E:E,"",'Gap Analysis'!M:M,"Yes"),COUNTIFS('Gap Analysis'!C:C,Overview!B63,'Gap Analysis'!D:D,Overview!C63,'Gap Analysis'!E:E,Overview!D63,'Gap Analysis'!M:M,"Yes")) -> 4 | I63: =IF(D63="",COUNTIFS('Gap Analysis'!C:C,Overview!B63,'Gap Analysis'!D:D,Overview!C63,'Gap Analysis'!E:E,"",'Gap Analysis'!M:M,"Yes", 'Gap Analysis'!N:N,"Yes"),COUNTIFS('Gap Analysis'!C:C,Overview!B63,'Gap Analysis'!D:D,Overview!C63,'Gap Analysis'!E:E,Overview!D63,'Gap Analysis'!M:M,"Yes", 'Gap Analysis'!N:N,"Yes")) -> 0 | J63: =H63-I63 -> 4
A64: 61 | B64: Product control | C64: Product packaging | E64: =IF(D64="",COUNTIFS('Gap Analysis'!C:C,Overview!B64,'Gap Analysis'!D:D,Overview!C64,'Gap Analysis'!E:E,"",'Gap Analysis'!F:F,"Yes"),COUNTIFS('Gap Analysis'!C:C,Overview!B64,'Gap Analysis'!D:D,Overview!C64,'Gap Analysis'!E:E,Overview!D64,'Gap Analysis'!F:F,"Yes")) -> 2 | F64: =IF(D64="",COUNTIFS('Gap Analysis'!C:C,Overview!B64,'Gap Analysis'!D:D,Overview!C64,'Gap Analysis'!E:E,"",'Gap Analysis'!F:F,"Yes", 'Gap Analysis'!G:G,"Yes"),COUNTIFS('Gap Analysis'!C:C,Overview!B64,'Gap Analysis'!D:D,Overview!C64,'Gap Analysis'!E:E,Overview!D64,'Gap Analysis'!F:F,"Yes", 'Gap Analysis'!G:G,"Yes")) -> 0 | G64: =E64-F64 -> 2 | H64: =IF(D64="",COUNTIFS('Gap Analysis'!C:C,Overview!B64,'Gap Analysis'!D:D,Overview!C64,'Gap Analysis'!E:E,"",'Gap Analysis'!M:M,"Yes"),COUNTIFS('Gap Analysis'!C:C,Overview!B64,'Gap Analysis'!D:D,Overview!C64,'Gap Analysis'!E:E,Overview!D64,'Gap Analysis'!M:M,"Yes")) -> 2 | I64: =IF(D64="",COUNTIFS('Gap Analysis'!C:C,Overview!B64,'Gap Analysis'!D:D,Overview!C64,'Gap Analysis'!E:E,"",'Gap Analysis'!M:M,"Yes", 'Gap Analysis'!N:N,"Yes"),COUNTIFS('Gap Analysis'!C:C,Overview!B64,'Gap Analysis'!D:D,Overview!C64,'Gap Analysis'!E:E,Overview!D64,'Gap Analysis'!M:M,"Yes", 'Gap Analysis'!N:N,"Yes")) -> 0 | J64: =H64-I64 -> 2
A65: 62 | B65: Product control | C65: Product inspection, on-site product testing and laboratory analysis | E65: =IF(D65="",COUNTIFS('Gap Analysis'!C:C,Overview!B65,'Gap Analysis'!D:D,Overview!C65,'Gap Analysis'!E:E,"",'Gap Analysis'!F:F,"Yes"),COUNTIFS('Gap Analysis'!C:C,Overview!B65,'Gap Analysis'!D:D,Overview!C65,'Gap Analysis'!E:E,Overview!D65,'Gap Analysis'!F:F,"Yes")) -> 7 | F65: =IF(D65="",COUNTIFS('Gap Analysis'!C:C,Overview!B65,'Gap Analysis'!D:D,Overview!C65,'Gap Analysis'!E:E,"",'Gap Analysis'!F:F,"Yes", 'Gap Analysis'!G:G,"Yes"),COUNTIFS('Gap Analysis'!C:C,Overview!B65,'Gap Analysis'!D:D,Overview!C65,'Gap Analysis'!E:E,Overview!D65,'Gap Analysis'!F:F,"Yes", 'Gap Analysis'!G:G,"Yes")) -> 0 | G65: =E65-F65 -> 7 | H65: =IF(D65="",COUNTIFS('Gap Analysis'!C:C,Overview!B65,'Gap Analysis'!D:D,Overview!C65,'Gap Analysis'!E:E,"",'Gap Analysis'!M:M,"Yes"),COUNTIFS('Gap Analysis'!C:C,Overview!B65,'Gap Analysis'!D:D,Overview!C65,'Gap Analysis'!E:E,Overview!D65,'Gap Analysis'!M:M,"Yes")) -> 2 | I65: =IF(D65="",COUNTIFS('Gap Analysis'!C:C,Overview!B65,'Gap Analysis'!D:D,Overview!C65,'Gap Analysis'!E:E,"",'Gap Analysis'!M:M,"Yes", 'Gap Analysis'!N:N,"Yes"),COUNTIFS('Gap Analysis'!C:C,Overview!B65,'Gap Analysis'!D:D,Overview!C65,'Gap Analysis'!E:E,Overview!D65,'Gap Analysis'!M:M,"Yes", 'Gap Analysis'!N:N,"Yes")) -> 0 | J65: =H65-I65 -> 2
A66: 63 | B66: Product control | C66: Product release | E66: =IF(D66="",COUNTIFS('Gap Analysis'!C:C,Overview!B66,'Gap Analysis'!D:D,Overview!C66,'Gap Analysis'!E:E,"",'Gap Analysis'!F:F,"Yes"),COUNTIFS('Gap Analysis'!C:C,Overview!B66,'Gap Analysis'!D:D,Overview!C66,'Gap Analysis'!E:E,Overview!D66,'Gap Analysis'!F:F,"Yes")) -> 0 | F66: =IF(D66="",COUNTIFS('Gap Analysis'!C:C,Overview!B66,'Gap Analysis'!D:D,Overview!C66,'Gap Analysis'!E:E,"",'Gap Analysis'!F:F,"Yes", 'Gap Analysis'!G:G,"Yes"),COUNTIFS('Gap Analysis'!C:C,Overview!B66,'Gap Analysis'!D:D,Overview!C66,'Gap Analysis'!E:E,Overview!D66,'Gap Analysis'!F:F,"Yes", 'Gap Analysis'!G:G,"Yes")) -> 0 | G66: =E66-F66 -> 0 | H66: =IF(D66="",COUNTIFS('Gap Analysis'!C:C,Overview!B66,'Gap Analysis'!D:D,Overview!C66,'Gap Analysis'!E:E,"",'Gap Analysis'!M:M,"Yes"),COUNTIFS('Gap Analysis'!C:C,Overview!B66,'Gap Analysis'!D:D,Overview!C66,'Gap Analysis'!E:E,Overview!D66,'Gap Analysis'!M:M,"Yes")) -> 1 | I66: =IF(D66="",COUNTIFS('Gap Analysis'!C:C,Overview!B66,'Gap Analysis'!D:D,Overview!C66,'Gap Analysis'!E:E,"",'Gap Analysis'!M:M,"Yes", 'Gap Analysis'!N:N,"Yes"),COUNTIFS('Gap Analysis'!C:C,Overview!B66,'Gap Analysis'!D:D,Overview!C66,'Gap Analysis'!E:E,Overview!D66,'Gap Analysis'!M:M,"Yes", 'Gap Analysis'!N:N,"Yes")) -> 0 | J66: =H66-I66 -> 1
... A89: 86 | B89: Requirements for traded products | C89: Traceability | E89: =IF(D89="",COUNTIFS('Gap Analysis'!C:C,Overview!B89,'Gap Analysis'!D:D,Overview!C89,'Gap Analysis'!E:E,"",'Gap Analysis'!F:F,"Yes"),COUNTIFS('Gap Analysis'!C:C,Overview!B89,'Gap Analysis'!D:D,Overview!C89,'Gap Analysis'!E:E,Overview!D89,'Gap Analysis'!F:F,"Yes")) -> 3 | F89: =IF(D89="",COUNTIFS('Gap Analysis'!C:C,Overview!B89,'Gap Analysis'!D:D,Overview!C89,'Gap Analysis'!E:E,"",'Gap Analysis'!F:F,"Yes", 'Gap Analysis'!G:G,"Yes"),COUNTIFS('Gap Analysis'!C:C,Overview!B89,'Gap Analysis'!D:D,Overview!C89,'Gap Analysis'!E:E,Overview!D89,'Gap Analysis'!F:F,"Yes", 'Gap Analysis'!G:G,"Yes")) -> 0 | G89: =E89-F89 -> 3 | H89: =IF(D89="",COUNTIFS('Gap Analysis'!C:C,Overview!B89,'Gap Analysis'!D:D,Overview!C89,'Gap Analysis'!E:E,"",'Gap Analysis'!M:M,"Yes"),COUNTIFS('Gap Analysis'!C:C,Overview!B89,'Gap Analysis'!D:D,Overview!C89,'Gap Analysis'!E:E,Overview!D89,'Gap Analysis'!M:M,"Yes")) -> 1 | I89: =IF(D89="",COUNTIFS('Gap Analysis'!C:C,Overview!B89,'Gap Analysis'!D:D,Overview!C89,'Gap Analysis'!E:E,"",'Gap Analysis'!M:M,"Yes", 'Gap Analysis'!N:N,"Yes"),COUNTIFS('Gap Analysis'!C:C,Overview!B89,'Gap Analysis'!D:D,Overview!C89,'Gap Analysis'!E:E,Overview!D89,'Gap Analysis'!M:M,"Yes", 'Gap Analysis'!N:N,"Yes")) -> 0 | J89: =H89-I89 -> 1

Sheet About this template
